BEGIN:VCALENDAR
VERSION:2.0
PRODID:-//Ordine dei Periti Industriali e Periti Industriali Laureati  della Provincia di Verona - ECPv6.6.2//NONSGML v1.0//EN
CALSCALE:GREGORIAN
METHOD:PUBLISH
X-ORIGINAL-URL:https://peritiverona.com
X-WR-CALDESC:Eventi per Ordine dei Periti Industriali e Periti Industriali Laureati  della Provincia di Verona
REFRESH-INTERVAL;VALUE=DURATION:PT1H
X-Robots-Tag:noindex
X-PUBLISHED-TTL:PT1H
BEGIN:VTIMEZONE
TZID:Europe/Rome
BEGIN:DAYLIGHT
TZOFFSETFROM:+0100
TZOFFSETTO:+0200
TZNAME:CEST
DTSTART:20250330T010000
END:DAYLIGHT
BEGIN:STANDARD
TZOFFSETFROM:+0200
TZOFFSETTO:+0100
TZNAME:CET
DTSTART:20251026T010000
END:STANDARD
END:VTIMEZONE
BEGIN:VEVENT
DTSTART;TZID=Europe/Rome:20250408T090000
DTEND;TZID=Europe/Rome:20250408T130000
DTSTAMP:20260421T214910
CREATED:20250320T100406Z
LAST-MODIFIED:20250324T081949Z
UID:9536-1744102800-1744117200@peritiverona.com
SUMMARY:Seminario Nuova direttiva EPBD e pompe di calore
DESCRIPTION:08.04.2025 Ariston \n\n        \n            Allegati\n        Convocazione Assemblea Rendiconto 2025 e Bilancio di previsione 2026 prot (235 kB)
URL:https://peritiverona.com/evento/seminario-nuova-direttiva-epbd-e-pompe-di-calore/
LOCATION:VILLA BONGIOVANNI\, Via Perarolo\, 36\, LOCARA\, 37047\, Italia
CATEGORIES:Eventi formazione continua
END:VEVENT
BEGIN:VEVENT
DTSTART;TZID=Europe/Rome:20250408T143000
DTEND;TZID=Europe/Rome:20250408T183000
DTSTAMP:20260421T214910
CREATED:20250404T094627Z
LAST-MODIFIED:20250404T094627Z
UID:9596-1744122600-1744137000@peritiverona.com
SUMMARY:Seminario di aggiornamento prevenzione incendi
DESCRIPTION:Locandina 08.04.2025 \n\n        \n            Allegati\n        Convocazione Assemblea Rendiconto 2025 e Bilancio di previsione 2026 prot (235 kB)
URL:https://peritiverona.com/evento/seminario-di-aggiornamento-prevenzione-incendi-8/
LOCATION:Istituto Salesiano San Zeno\, Via Don Minzoni 50\, Verona\, 37138
CATEGORIES:Eventi formazione continua
END:VEVENT
BEGIN:VEVENT
DTSTART;TZID=Europe/Rome:20250414T110000
DTEND;TZID=Europe/Rome:20250414T170000
DTSTAMP:20260421T214910
CREATED:20250324T081651Z
LAST-MODIFIED:20250324T081651Z
UID:9557-1744628400-1744650000@peritiverona.com
SUMMARY:Convocazione dell'Assemblea per l'approvazione dei bilanci
DESCRIPTION:Convocazione Assemblea\n \n\n        \n            Allegati\n        Convocazione Assemblea Rendiconto 2025 e Bilancio di previsione 2026 prot (235 kB)
URL:https://peritiverona.com/evento/convocazione-dellassemblea-per-lapprovazione-dei-bilanci/
LOCATION:Ordine dei Periti Industriali e Periti Industriali Laureati  della Provincia di Verona\, via Monte Comun 27\, San Giovanni Lupatoto\, 37057
END:VEVENT
BEGIN:VEVENT
DTSTART;TZID=Europe/Rome:20250417T140000
DTEND;TZID=Europe/Rome:20250417T173000
DTSTAMP:20260421T214910
CREATED:20250327T103214Z
LAST-MODIFIED:20250327T103214Z
UID:9570-1744898400-1744911000@peritiverona.com
SUMMARY:Tavola Rotonda Il valore dell'abitare a Verona
DESCRIPTION:17.04.2025 Tavola Rotonda \n\n        \n            Allegati\n        Convocazione Assemblea Rendiconto 2025 e Bilancio di previsione 2026 prot (235 kB)
URL:https://peritiverona.com/evento/tavola-rotonda-il-valore-dellabitare-a-verona/
LOCATION:TEATRO STIMATE\, VIA CARLO MONTANARI 1\, VERONA\, 37122\, Italia
CATEGORIES:Eventi formazione continua
END:VEVENT
END:VCALENDAR