BEGIN:VCALENDAR
VERSION:2.0
PRODID:-//Ordine dei Periti Industriali e Periti Industriali Laureati  della Provincia di Verona - ECPv6.6.2//NONSGML v1.0//EN
CALSCALE:GREGORIAN
METHOD:PUBLISH
X-WR-CALNAME:Ordine dei Periti Industriali e Periti Industriali Laureati  della Provincia di Verona
X-ORIGINAL-URL:https://peritiverona.com
X-WR-CALDESC:Eventi per Ordine dei Periti Industriali e Periti Industriali Laureati  della Provincia di Verona
REFRESH-INTERVAL;VALUE=DURATION:PT1H
X-Robots-Tag:noindex
X-PUBLISHED-TTL:PT1H
BEGIN:VTIMEZONE
TZID:Europe/Rome
BEGIN:DAYLIGHT
TZOFFSETFROM:+0100
TZOFFSETTO:+0200
TZNAME:CEST
DTSTART:20230326T010000
END:DAYLIGHT
BEGIN:STANDARD
TZOFFSETFROM:+0200
TZOFFSETTO:+0100
TZNAME:CET
DTSTART:20231029T010000
END:STANDARD
BEGIN:DAYLIGHT
TZOFFSETFROM:+0100
TZOFFSETTO:+0200
TZNAME:CEST
DTSTART:20240331T010000
END:DAYLIGHT
BEGIN:STANDARD
TZOFFSETFROM:+0200
TZOFFSETTO:+0100
TZNAME:CET
DTSTART:20241027T010000
END:STANDARD
END:VTIMEZONE
BEGIN:VEVENT
DTSTART;TZID=Europe/Rome:20240917T143000
DTEND;TZID=Europe/Rome:20240917T173000
DTSTAMP:20260420T073316
CREATED:20240830T094404Z
LAST-MODIFIED:20240830T094404Z
UID:8918-1726583400-1726594200@peritiverona.com
SUMMARY:Seminario Fibra ottica: soluzioni-normative-scenari applicativi
DESCRIPTION:17.09.2024 Cloud-Comm \n\n        \n            Allegati\n        29.10.2024 Prevenzioneincenditalia (826 kB)
URL:https://peritiverona.com/evento/seminario-fibra-ottica-soluzioni-normative-scenari-applicativi/
LOCATION:Ordine dei Periti Industriali e Periti Industriali Laureati  della Provincia di Verona\, via Monte Comun 27\, San Giovanni Lupatoto\, 37057
CATEGORIES:Eventi formazione continua
END:VEVENT
BEGIN:VEVENT
DTSTART;TZID=Europe/Rome:20240912T090000
DTEND;TZID=Europe/Rome:20240912T120000
DTSTAMP:20260420T073316
CREATED:20240830T080821Z
LAST-MODIFIED:20240830T080821Z
UID:8909-1726131600-1726142400@peritiverona.com
SUMMARY:Seminario Il sistema innovativo per la climatizzazione annuale
DESCRIPTION:12.09.2024 Olimpia Splendid \n\n        \n            Allegati\n        29.10.2024 Prevenzioneincenditalia (826 kB)
URL:https://peritiverona.com/evento/seminario-il-sistema-innovativo-per-la-climatizzazione-annuale/
LOCATION:Ordine dei Periti Industriali e Periti Industriali Laureati  della Provincia di Verona\, via Monte Comun 27\, San Giovanni Lupatoto\, 37057
CATEGORIES:Eventi formazione continua
END:VEVENT
BEGIN:VEVENT
DTSTART;TZID=Europe/Rome:20240619T090000
DTEND;TZID=Europe/Rome:20240619T120000
DTSTAMP:20260420T073316
CREATED:20240529T064134Z
LAST-MODIFIED:20240529T064134Z
UID:8723-1718787600-1718798400@peritiverona.com
SUMMARY:Seminario Impianti di climatizzazione per edifici efficienti
DESCRIPTION:19.06.2024 seminario INNOVA \n\n        \n            Allegati\n        29.10.2024 Prevenzioneincenditalia (826 kB)
URL:https://peritiverona.com/evento/seminario-impianti-di-climatizzazione-per-edifici-efficienti/
LOCATION:Ordine dei Periti Industriali e Periti Industriali Laureati  della Provincia di Verona\, via Monte Comun 27\, San Giovanni Lupatoto\, 37057
CATEGORIES:Eventi formazione continua
END:VEVENT
BEGIN:VEVENT
DTSTART;TZID=Europe/Rome:20240613T090000
DTEND;TZID=Europe/Rome:20240613T130000
DTSTAMP:20260420T073316
CREATED:20240606T072707Z
LAST-MODIFIED:20240606T072707Z
UID:8751-1718269200-1718283600@peritiverona.com
SUMMARY:Convegno Evoluzione progettuale e tecnica nelle infrastrutture e negli immobili
DESCRIPTION:13.06.2024 SAIE_LAB_Verona \n\n        \n            Allegati\n        29.10.2024 Prevenzioneincenditalia (826 kB)
URL:https://peritiverona.com/evento/convegno-evoluzione-progettuale-e-tecnica-nelle-infrastrutture-e-negli-immobili/
LOCATION:Sala Convegni Associazione M15\, via Santa Teresa 2\, Verona
CATEGORIES:Eventi formazione continua
END:VEVENT
BEGIN:VEVENT
DTSTART;TZID=Europe/Rome:20240611T093000
DTEND;TZID=Europe/Rome:20240611T123000
DTSTAMP:20260420T073316
CREATED:20240527T061059Z
LAST-MODIFIED:20240527T061059Z
UID:8701-1718098200-1718109000@peritiverona.com
SUMMARY:Convegno Progettazione in pompa di calore
DESCRIPTION:11.06.2024 Convegno ARISTON ON TOUR \n\n        \n            Allegati\n        29.10.2024 Prevenzioneincenditalia (826 kB)
URL:https://peritiverona.com/evento/convegno-progettazione-in-pompa-di-calore/
LOCATION:Villa de Winckels\, Via Sorio 30\, TREGNAGO\, 37039\, Italia
CATEGORIES:Eventi formazione continua
END:VEVENT
BEGIN:VEVENT
DTSTART;TZID=Europe/Rome:20240603T140000
DTEND;TZID=Europe/Rome:20240603T180000
DTSTAMP:20260420T073316
CREATED:20240515T080510Z
LAST-MODIFIED:20240515T080527Z
UID:8670-1717423200-1717437600@peritiverona.com
SUMMARY:Incontro La progettazione a servizio della transizione Energetica
DESCRIPTION:03.06.2024 Immergas \n\n        \n            Allegati\n        29.10.2024 Prevenzioneincenditalia (826 kB)
URL:https://peritiverona.com/evento/incontro-la-progettazione-a-servizio-della-transizione-energetica/
LOCATION:Ordine dei Periti Industriali e Periti Industriali Laureati  della Provincia di Verona\, via Monte Comun 27\, San Giovanni Lupatoto\, 37057
CATEGORIES:Eventi formazione continua
END:VEVENT
BEGIN:VEVENT
DTSTART;TZID=Europe/Rome:20240523T170000
DTEND;TZID=Europe/Rome:20240523T190000
DTSTAMP:20260420T073316
CREATED:20240509T095312Z
LAST-MODIFIED:20240509T095354Z
UID:8622-1716483600-1716490800@peritiverona.com
SUMMARY:Incontro presentazione Convenzione Università
DESCRIPTION:UNIVERSITA’ 23.05.2024 \n\n        \n            Allegati\n        29.10.2024 Prevenzioneincenditalia (826 kB)
URL:https://peritiverona.com/evento/incontro-presentazione-convenzione-universita/
LOCATION:Ordine dei Periti Industriali e Periti Industriali Laureati  della Provincia di Verona\, via Monte Comun 27\, San Giovanni Lupatoto\, 37057
CATEGORIES:Eventi formazione continua
END:VEVENT
BEGIN:VEVENT
DTSTART;TZID=Europe/Rome:20240523T093000
DTEND;TZID=Europe/Rome:20240523T173000
DTSTAMP:20260420T073316
CREATED:20240506T103126Z
LAST-MODIFIED:20240506T103126Z
UID:8602-1716456600-1716485400@peritiverona.com
SUMMARY:CasaClima Network Day
DESCRIPTION:23.05.2024 _CasaClima \n\n        \n            Allegati\n        29.10.2024 Prevenzioneincenditalia (826 kB)
URL:https://peritiverona.com/evento/casaclima-network-day/
LOCATION:Performance iN Lighting Group\, Viale del Lavoro 9/11\, Colognola ai Colli\, 37030\, Italia
CATEGORIES:Eventi formazione continua
END:VEVENT
BEGIN:VEVENT
DTSTART;TZID=Europe/Rome:20240520T160000
DTEND;TZID=Europe/Rome:20240520T183000
DTSTAMP:20260420T073316
CREATED:20240513T091515Z
LAST-MODIFIED:20240513T103454Z
UID:8640-1716220800-1716229800@peritiverona.com
SUMMARY:Convegno Documento di studio sul riordino degli incentivi fiscali
DESCRIPTION:20.05.2024 Convegno Incentivi fiscali_ \n\n        \n            Allegati\n        29.10.2024 Prevenzioneincenditalia (826 kB)
URL:https://peritiverona.com/evento/convegno-documento-di-studio-sul-riordiono-degli-incentivi-fiscali/
LOCATION:Ordine Ingegneri\, Via Santa Teresa\, 12\, Verona\, Verona
CATEGORIES:Eventi formazione continua
END:VEVENT
BEGIN:VEVENT
DTSTART;TZID=Europe/Rome:20240516T143000
DTEND;TZID=Europe/Rome:20240516T183000
DTSTAMP:20260420T073316
CREATED:20240502T102802Z
LAST-MODIFIED:20240502T102802Z
UID:8583-1715869800-1715884200@peritiverona.com
SUMMARY:Corso Progettare la purificazione acqua
DESCRIPTION:16.05.2024 Manta ecologica \n\n        \n            Allegati\n        29.10.2024 Prevenzioneincenditalia (826 kB)
URL:https://peritiverona.com/evento/corso-progettare-la-purificazione-acqua/
LOCATION:Ordine dei Periti Industriali e Periti Industriali Laureati  della Provincia di Verona\, via Monte Comun 27\, San Giovanni Lupatoto\, 37057
CATEGORIES:Eventi formazione continua
END:VEVENT
BEGIN:VEVENT
DTSTART;TZID=Europe/Rome:20240424T160000
DTEND;TZID=Europe/Rome:20240424T190000
DTSTAMP:20260420T073316
CREATED:20240417T064335Z
LAST-MODIFIED:20240417T064435Z
UID:8561-1713974400-1713985200@peritiverona.com
SUMMARY:Convegno - Tavola Rotonda - Il Futuro dell'Abitare
DESCRIPTION:24.04.2024 Convegno Tavola Rotonda \n\n        \n            Allegati\n        29.10.2024 Prevenzioneincenditalia (826 kB)
URL:https://peritiverona.com/evento/convegno-tavola-rotonda-il-futuro-dellabitare/
LOCATION:Ordine degli Architetti\, Via Santa Teresa\, 2\, Verona\, Verona
CATEGORIES:Eventi formazione continua
END:VEVENT
BEGIN:VEVENT
DTSTART;TZID=Europe/Rome:20240409T143000
DTEND;TZID=Europe/Rome:20240409T183000
DTSTAMP:20260420T073316
CREATED:20240328T111959Z
LAST-MODIFIED:20240328T112010Z
UID:8524-1712673000-1712687400@peritiverona.com
SUMMARY:Convegno Costruire il comfort con EPBD e PNRR
DESCRIPTION:09.04.2024 ANIT \n\n        \n            Allegati\n        29.10.2024 Prevenzioneincenditalia (826 kB)
URL:https://peritiverona.com/evento/convegno-costruire-il-comfort-con-epbd-e-pnrr/
LOCATION:VILLA QUARANTA\, Via Ospedaletto 57\, OSPEDALETTO\, 37026\, Italia
CATEGORIES:Eventi formazione continua
END:VEVENT
BEGIN:VEVENT
DTSTART;TZID=Europe/Rome:20240409T143000
DTEND;TZID=Europe/Rome:20240409T183000
DTSTAMP:20260420T073316
CREATED:20240229T075707Z
LAST-MODIFIED:20240229T075707Z
UID:8396-1712673000-1712687400@peritiverona.com
SUMMARY:Seminario di aggiornamento prevenzione incendi
DESCRIPTION:Locandina 09.04.2024 \n\n        \n            Allegati\n        29.10.2024 Prevenzioneincenditalia (826 kB)
URL:https://peritiverona.com/evento/seminario-di-aggiornamento-prevenzione-incendi-4/
LOCATION:Camera di Commercio Verona\, Corso Porta Nuova\, 96\, Verona\, Italia\, 37122
CATEGORIES:Eventi formazione continua
END:VEVENT
BEGIN:VEVENT
DTSTART;TZID=Europe/Rome:20240328T140000
DTEND;TZID=Europe/Rome:20240328T180000
DTSTAMP:20260420T073316
CREATED:20240304T074806Z
LAST-MODIFIED:20240304T074806Z
UID:8414-1711634400-1711648800@peritiverona.com
SUMMARY:Incontro tecnico dedicato all'antincendio e normative
DESCRIPTION:MT Distribuzione 28.03.2024 \n\n        \n            Allegati\n        29.10.2024 Prevenzioneincenditalia (826 kB)
URL:https://peritiverona.com/evento/incontro-tecnico-dedicato-allantincendio-e-normative/
LOCATION:MT DISTRIBUZIONE SRL\, VIA G. B. MORGAGNI 26\, VERONA\, 37135\, Italia
CATEGORIES:Eventi formazione continua
END:VEVENT
BEGIN:VEVENT
DTSTART;TZID=Europe/Rome:20240215T140000
DTEND;TZID=Europe/Rome:20240215T180000
DTSTAMP:20260420T073316
CREATED:20240201T081548Z
LAST-MODIFIED:20240201T081548Z
UID:8309-1708005600-1708020000@peritiverona.com
SUMMARY:Convegno Società dell'incertezza: creare fiducia con conoscenze e competenze
DESCRIPTION:ANCE 15.02.2024 \n\n        \n            Allegati\n        29.10.2024 Prevenzioneincenditalia (826 kB)
URL:https://peritiverona.com/evento/convegno-societa-dellincertezza-creare-fiducia-con-conoscenze-e-competenze/
LOCATION:AUDITORIUM VERDI VeronaFiere\, Viale del Lavoro 8\, VERONA\, 37135\, Italia
CATEGORIES:Eventi formazione continua
END:VEVENT
BEGIN:VEVENT
DTSTART;TZID=Europe/Rome:20231207T083000
DTEND;TZID=Europe/Rome:20231207T123000
DTSTAMP:20260420T073316
CREATED:20231121T120020Z
LAST-MODIFIED:20231121T120110Z
UID:8187-1701937800-1701952200@peritiverona.com
SUMMARY:Incontro tecnico Sicurezza e progettazione di Sistemi Anticaduta
DESCRIPTION:07.12.2023 \n\n        \n            Allegati\n        29.10.2024 Prevenzioneincenditalia (826 kB)
URL:https://peritiverona.com/evento/incontro-tecnico-sicurezza-e-progettazione-di-sistemi-anticaduta/
LOCATION:STUDIO ESSEPI S.r.l.\, Via Dell'Industria 1\, SONA\, 37060
CATEGORIES:Eventi formazione continua
END:VEVENT
BEGIN:VEVENT
DTSTART;TZID=Europe/Rome:20231130T170000
DTEND;TZID=Europe/Rome:20231130T190000
DTSTAMP:20260420T073316
CREATED:20231114T104146Z
LAST-MODIFIED:20231114T104146Z
UID:8168-1701363600-1701370800@peritiverona.com
SUMMARY:Corso formativo deontologico
DESCRIPTION:Allegati\n        29.10.2024 Prevenzioneincenditalia (826 kB)
URL:https://peritiverona.com/evento/corso-formativo-deontologico-2/
LOCATION:Ordine dei Periti Industriali e Periti Industriali Laureati  della Provincia di Verona\, via Monte Comun 27\, San Giovanni Lupatoto\, 37057
CATEGORIES:Eventi formazione continua
END:VEVENT
BEGIN:VEVENT
DTSTART;TZID=Europe/Rome:20231130T143000
DTEND;TZID=Europe/Rome:20231130T173000
DTSTAMP:20260420T073316
CREATED:20231019T100740Z
LAST-MODIFIED:20231019T100740Z
UID:8111-1701354600-1701365400@peritiverona.com
SUMMARY:Convegno on-line Efficienza energetica\, diagnostica e riqualificazione
DESCRIPTION:30.11.2023 ANIT \n\n        \n            Allegati\n        29.10.2024 Prevenzioneincenditalia (826 kB)
URL:https://peritiverona.com/evento/convegno-on-line-efficienza-energetica-diagnostica-e-riqualificazione/
LOCATION:Italia
CATEGORIES:Eventi formazione continua
END:VEVENT
BEGIN:VEVENT
DTSTART;TZID=Europe/Rome:20231122T140000
DTEND;TZID=Europe/Rome:20231122T183000
DTSTAMP:20260420T073316
CREATED:20231110T113847Z
LAST-MODIFIED:20231110T113847Z
UID:8150-1700661600-1700677800@peritiverona.com
SUMMARY:Seminario Il piano mirato di prevenzione in Edilizia nel Veneto
DESCRIPTION:22.11.2023 SPISAL \n\n        \n            Allegati\n        29.10.2024 Prevenzioneincenditalia (826 kB)
URL:https://peritiverona.com/evento/seminario-il-piano-mirato-di-prevenzione-in-edilizia-nel-veneto/
LOCATION:UNIVERSITA’ POLO ZANOTTO\, Viale Università 4\, VERONA\, 37129\, Italia
CATEGORIES:Eventi formazione continua
END:VEVENT
BEGIN:VEVENT
DTSTART;TZID=Europe/Rome:20231025T143000
DTEND;TZID=Europe/Rome:20231025T183000
DTSTAMP:20260420T073316
CREATED:20230920T085552Z
LAST-MODIFIED:20230920T085552Z
UID:8050-1698244200-1698258600@peritiverona.com
SUMMARY:Seminario di aggiornamento prevenzione incendi
DESCRIPTION:Locandina 25.10.2023 \n\n        \n            Allegati\n        29.10.2024 Prevenzioneincenditalia (826 kB)
URL:https://peritiverona.com/evento/seminario-di-aggiornamento-prevenzione-incendi-3/
LOCATION:Camera di Commercio Verona\, Corso Porta Nuova\, 96\, Verona\, Italia\, 37122
CATEGORIES:Eventi formazione continua
END:VEVENT
BEGIN:VEVENT
DTSTART;TZID=Europe/Rome:20230921T140000
DTEND;TZID=Europe/Rome:20230921T180000
DTSTAMP:20260420T073316
CREATED:20230908T090832Z
LAST-MODIFIED:20230908T090832Z
UID:8011-1695304800-1695319200@peritiverona.com
SUMMARY:Seminario I regrigeranti alternativi agli HFC e l'utilizzo degli HC
DESCRIPTION:21.09.2023 Wolf \n\n        \n            Allegati\n        29.10.2024 Prevenzioneincenditalia (826 kB)
URL:https://peritiverona.com/evento/seminario-i-regrigeranti-alternativi-agli-hfc-e-lutilizzo-degli-hc/
LOCATION:Hotel Crowne Plaza\, Via Belgio\, 16\, Verona\, 37135\, Italia
CATEGORIES:Eventi formazione continua
END:VEVENT
BEGIN:VEVENT
DTSTART;TZID=Europe/Rome:20230629T140000
DTEND;TZID=Europe/Rome:20230629T183000
DTSTAMP:20260420T073316
CREATED:20230605T100659Z
LAST-MODIFIED:20230605T100659Z
UID:7797-1688047200-1688063400@peritiverona.com
SUMMARY:Seminario Gli edifici produttivi colpiti da incendio
DESCRIPTION:29.06.2023 SEMINARIO PREV.INCENDI ING. \n\n        \n            Allegati\n        29.10.2024 Prevenzioneincenditalia (826 kB)
URL:https://peritiverona.com/evento/seminario-gli-edifici-produttivi-colpiti-da-incendio/
LOCATION:Sala Convegni Associazione M15\, via Santa Teresa 2\, Verona
CATEGORIES:Eventi formazione continua
END:VEVENT
BEGIN:VEVENT
DTSTART;TZID=Europe/Rome:20230627T170000
DTEND;TZID=Europe/Rome:20230627T190000
DTSTAMP:20260420T073316
CREATED:20230612T094500Z
LAST-MODIFIED:20230612T094500Z
UID:7878-1687885200-1687892400@peritiverona.com
SUMMARY:Corso formativo deontologico
DESCRIPTION:Allegati\n        29.10.2024 Prevenzioneincenditalia (826 kB)
URL:https://peritiverona.com/evento/corso-formativo-deontologico/
LOCATION:Ordine dei Periti Industriali e Periti Industriali Laureati  della Provincia di Verona\, via Monte Comun 27\, San Giovanni Lupatoto\, 37057
CATEGORIES:Eventi formazione continua
END:VEVENT
BEGIN:VEVENT
DTSTART;TZID=Europe/Rome:20230622T143000
DTEND;TZID=Europe/Rome:20230622T183000
DTSTAMP:20260420T073316
CREATED:20230531T094606Z
LAST-MODIFIED:20230531T094655Z
UID:7777-1687444200-1687458600@peritiverona.com
SUMMARY:Seminario di aggiornamento prevenzione incendi
DESCRIPTION:Prevenzioneincenditalia 22.06.2023 \n\n        \n            Allegati\n        29.10.2024 Prevenzioneincenditalia (826 kB)
URL:https://peritiverona.com/evento/seminario-di-aggiornamento-prevenzione-incendi-2/
LOCATION:Istituto Salesiano San Zeno\, Via Don Minzoni 50\, Verona\, 37138
CATEGORIES:Eventi formazione continua
END:VEVENT
BEGIN:VEVENT
DTSTART;TZID=Europe/Rome:20230621T143000
DTEND;TZID=Europe/Rome:20230621T173000
DTSTAMP:20260420T073316
CREATED:20230607T064613Z
LAST-MODIFIED:20230608T074005Z
UID:7817-1687357800-1687368600@peritiverona.com
SUMMARY:Seminario CEI 64-8; V5 Le protezioni contro le scariche atmosferiche
DESCRIPTION:21.06.2023 CEI 64-8 rettifica \n\n        \n            Allegati\n        29.10.2024 Prevenzioneincenditalia (826 kB)
URL:https://peritiverona.com/evento/seminario-cei-64-8-v5-le-protezioni-contro-le-scariche-atmosferiche/
LOCATION:ELETTROVENETA SPA – Sala Polivalente\, VIA L. GALVANI 16\, VERONA\, 37138
CATEGORIES:Eventi formazione continua
END:VEVENT
BEGIN:VEVENT
DTSTART;TZID=Europe/Rome:20230615T143000
DTEND;TZID=Europe/Rome:20230615T180000
DTSTAMP:20260420T073316
CREATED:20230530T080833Z
LAST-MODIFIED:20230530T080833Z
UID:7762-1686839400-1686852000@peritiverona.com
SUMMARY:Convegno Comfort ed energia pulita
DESCRIPTION:15.06.2023 ANIT \n\n        \n            Allegati\n        29.10.2024 Prevenzioneincenditalia (826 kB)
URL:https://peritiverona.com/evento/convegno-comfort-ed-energia-pulita/
LOCATION:Best Western Plus Hotel Expo\, VIA PORTOGALLO 1/P\, VILLAFRANCA DI VERONA\, 37069\, Italia
CATEGORIES:Eventi formazione continua
END:VEVENT
BEGIN:VEVENT
DTSTART;TZID=Europe/Rome:20230525T143000
DTEND;TZID=Europe/Rome:20230525T173000
DTSTAMP:20260420T073316
CREATED:20230508T081549Z
LAST-MODIFIED:20230508T081549Z
UID:7723-1685025000-1685035800@peritiverona.com
SUMMARY:Seminario La progettazione integrata\, verso gli smart buildings
DESCRIPTION:25.05.2023 Eelectron \n\n        \n            Allegati\n        29.10.2024 Prevenzioneincenditalia (826 kB)
URL:https://peritiverona.com/evento/seminario-la-progettazione-integrata-verso-gli-smart-buildings/
LOCATION:SIMEVIGNUDA SPA – Sala polivalente\, VIA E.TORRICELLI 9\, VERONA\, 37135\, Italia
CATEGORIES:Eventi formazione continua
END:VEVENT
BEGIN:VEVENT
DTSTART;TZID=Europe/Rome:20230421T143000
DTEND;TZID=Europe/Rome:20230421T180000
DTSTAMP:20260420T073316
CREATED:20230405T083359Z
LAST-MODIFIED:20230405T083359Z
UID:7670-1682087400-1682100000@peritiverona.com
SUMMARY:Incontro tecnico soluzioni per il controllo dell'illuminazione
DESCRIPTION:21.04.2023 ARREDOLUCE \n\n        \n            Allegati\n        29.10.2024 Prevenzioneincenditalia (826 kB)
URL:https://peritiverona.com/evento/incontro-tecnico-soluzioni-per-il-controllo-dellilluminazione/
LOCATION:Arredoluce\, Via Ca Nova Zampieri 16\, San Giovanni Lupatoto\, 37057\, Italia
CATEGORIES:Eventi formazione continua
END:VEVENT
BEGIN:VEVENT
DTSTART;TZID=Europe/Rome:20230323T160000
DTEND;TZID=Europe/Rome:20230323T180000
DTSTAMP:20260420T073316
CREATED:20230309T082459Z
LAST-MODIFIED:20230309T082459Z
UID:7562-1679587200-1679594400@peritiverona.com
SUMMARY:Webinar Costruire valore o programmare danni?
DESCRIPTION:ANCE 23.03.2023 \n\n        \n            Allegati\n        29.10.2024 Prevenzioneincenditalia (826 kB)
URL:https://peritiverona.com/evento/webinar-costruire-valore-o-programmare-danni/
LOCATION:Italia
CATEGORIES:Eventi formazione continua
END:VEVENT
BEGIN:VEVENT
DTSTART;TZID=Europe/Rome:20230215T163000
DTEND;TZID=Europe/Rome:20230215T193000
DTSTAMP:20260420T073316
CREATED:20230209T083229Z
LAST-MODIFIED:20230209T083229Z
UID:7530-1676478600-1676489400@peritiverona.com
SUMMARY:Seminario Il piano REPowerEU\, gli impianti di climatizzazione a base R32
DESCRIPTION:15.02.2023 H25 \n\n        \n            Allegati\n        29.10.2024 Prevenzioneincenditalia (826 kB)
URL:https://peritiverona.com/evento/seminario-il-piano-repowereu-gli-impianti-di-climatizzazione-a-base-r32/
LOCATION:MUSEO NICOLIS\, VIALE POSTUMIA\, 71\, VILLAFRANCA DI VERONA\, 37069\, Italia
CATEGORIES:Eventi formazione continua
END:VEVENT
END:VCALENDAR