BEGIN:VCALENDAR
VERSION:2.0
PRODID:-//Ordine dei Periti Industriali e Periti Industriali Laureati  della Provincia di Verona - ECPv6.6.2//NONSGML v1.0//EN
CALSCALE:GREGORIAN
METHOD:PUBLISH
X-WR-CALNAME:Ordine dei Periti Industriali e Periti Industriali Laureati  della Provincia di Verona
X-ORIGINAL-URL:https://peritiverona.com
X-WR-CALDESC:Eventi per Ordine dei Periti Industriali e Periti Industriali Laureati  della Provincia di Verona
REFRESH-INTERVAL;VALUE=DURATION:PT1H
X-Robots-Tag:noindex
X-PUBLISHED-TTL:PT1H
BEGIN:VTIMEZONE
TZID:Europe/Rome
BEGIN:DAYLIGHT
TZOFFSETFROM:+0100
TZOFFSETTO:+0200
TZNAME:CEST
DTSTART:20250330T010000
END:DAYLIGHT
BEGIN:STANDARD
TZOFFSETFROM:+0200
TZOFFSETTO:+0100
TZNAME:CET
DTSTART:20251026T010000
END:STANDARD
BEGIN:DAYLIGHT
TZOFFSETFROM:+0100
TZOFFSETTO:+0200
TZNAME:CEST
DTSTART:20260329T010000
END:DAYLIGHT
BEGIN:STANDARD
TZOFFSETFROM:+0200
TZOFFSETTO:+0100
TZNAME:CET
DTSTART:20261025T010000
END:STANDARD
END:VTIMEZONE
BEGIN:VEVENT
DTSTART;TZID=Europe/Rome:20251009T143000
DTEND;TZID=Europe/Rome:20251009T183000
DTSTAMP:20260422T234655
CREATED:20250716T090028Z
LAST-MODIFIED:20250716T090028Z
UID:9979-1760020200-1760034600@peritiverona.com
SUMMARY:Convegno Oltre il solito sistema a cappotto
DESCRIPTION:09.10.2025 ANIT \n\n        \n            Allegati\n        17.04.2025 Ordine Ingegneri - Tavola Rotonda (411 kB)
URL:https://peritiverona.com/evento/convegno-oltre-il-solito-sistema-a-cappotto/
LOCATION:CAVALLO HOTEL VERONA EST\, Via Unità d'Italia 346\, VERONA\, 37132\, Italia
CATEGORIES:Eventi formazione continua
END:VEVENT
BEGIN:VEVENT
DTSTART;TZID=Europe/Rome:20251023T090000
DTEND;TZID=Europe/Rome:20251023T120000
DTSTAMP:20260422T234655
CREATED:20251007T091518Z
LAST-MODIFIED:20251007T091518Z
UID:10104-1761210000-1761220800@peritiverona.com
SUMMARY:Seminario Illuminazione di emergenza\, illuminazione dei luoghi di lavoro
DESCRIPTION:23.10.2025 Beghelli \n\n        \n            Allegati\n        17.04.2025 Ordine Ingegneri - Tavola Rotonda (411 kB)
URL:https://peritiverona.com/evento/seminario-illuminazione-di-emergenza-illuminazione-dei-luoghi-di-lavoro/
LOCATION:Ordine dei Periti Industriali e Periti Industriali Laureati  della Provincia di Verona\, via Monte Comun 27\, San Giovanni Lupatoto\, 37057
CATEGORIES:Eventi formazione continua
END:VEVENT
BEGIN:VEVENT
DTSTART;TZID=Europe/Rome:20251029T083000
DTEND;TZID=Europe/Rome:20251029T123000
DTSTAMP:20260422T234655
CREATED:20251017T091233Z
LAST-MODIFIED:20251017T091233Z
UID:10156-1761726600-1761741000@peritiverona.com
SUMMARY:Corsi di aggiornamento di prevenzione incendi
DESCRIPTION:Valutazione del rischio incendio relativo ad impianti fotovoltaici installati su copertura – Analisi casi di studio su attività Metodologia per l’ingegneria della sicurezza antincendio (FSE – Fire Safety Engineering)\, sezione M del DM 03.08.2015 e s.m.i. \n\n        \n            Allegati\n        17.04.2025 Ordine Ingegneri - Tavola Rotonda (411 kB)
URL:https://peritiverona.com/evento/corsi-di-aggiornamento-di-prevenzione-incendi/
LOCATION:Ordine dei Periti Industriali e Periti Industriali Laureati  della Provincia di Verona\, via Monte Comun 27\, San Giovanni Lupatoto\, 37057
CATEGORIES:Eventi formazione continua
END:VEVENT
BEGIN:VEVENT
DTSTART;TZID=Europe/Rome:20251104T140000
DTEND;TZID=Europe/Rome:20251104T183000
DTSTAMP:20260422T234655
CREATED:20251020T072312Z
LAST-MODIFIED:20251020T072312Z
UID:10180-1762264800-1762281000@peritiverona.com
SUMMARY:Incontro tecnico Autoproduzione da fonti rinnovabili e transizione energetica
DESCRIPTION:04.11.2025 Omniasolar \n\n        \n            Allegati\n        17.04.2025 Ordine Ingegneri - Tavola Rotonda (411 kB)
URL:https://peritiverona.com/evento/incontro-tecnico-autoproduzione-da-fonti-rinnovabili-e-transizione-energetica/
LOCATION:ORDINE DEGLI INGEGNERI DI VERONA\, VIA SANTA TERESA 12\, VERONA\, 37135\, Italia
CATEGORIES:Eventi formazione continua
END:VEVENT
BEGIN:VEVENT
DTSTART;TZID=Europe/Rome:20251104T143000
DTEND;TZID=Europe/Rome:20251104T183000
DTSTAMP:20260422T234655
CREATED:20251022T074749Z
LAST-MODIFIED:20251022T074749Z
UID:10220-1762266600-1762281000@peritiverona.com
SUMMARY:Seminario di aggiornamento prevenzione incendi
DESCRIPTION:Locandina 04.11.2025 \n\n        \n            Allegati\n        17.04.2025 Ordine Ingegneri - Tavola Rotonda (411 kB)
URL:https://peritiverona.com/evento/seminario-di-aggiornamento-prevenzione-incendi-9/
LOCATION:Istituto Salesiano San Zeno\, Via Don Minzoni 50\, Verona\, 37138
CATEGORIES:Eventi formazione continua
END:VEVENT
BEGIN:VEVENT
DTSTART;TZID=Europe/Rome:20251111T090000
DTEND;TZID=Europe/Rome:20251111T120000
DTSTAMP:20260422T234655
CREATED:20251023T080602Z
LAST-MODIFIED:20251023T080602Z
UID:10233-1762851600-1762862400@peritiverona.com
SUMMARY:Corso Protezione contro le scariche atmosferiche e le sovratenzioni
DESCRIPTION:11.11.2025 Dehn Italia \n\n        \n            Allegati\n        17.04.2025 Ordine Ingegneri - Tavola Rotonda (411 kB)
URL:https://peritiverona.com/evento/corso-protezione-contro-le-scariche-atmosferiche-e-le-sovratenzioni/
LOCATION:Ordine dei Periti Industriali e Periti Industriali Laureati  della Provincia di Verona\, via Monte Comun 27\, San Giovanni Lupatoto\, 37057
CATEGORIES:Eventi formazione continua
END:VEVENT
BEGIN:VEVENT
DTSTART;TZID=Europe/Rome:20251112T083000
DTEND;TZID=Europe/Rome:20251112T123000
DTSTAMP:20260422T234655
CREATED:20251017T091342Z
LAST-MODIFIED:20251017T091352Z
UID:10158-1762936200-1762950600@peritiverona.com
SUMMARY:Corso di aggiornamento di prevenzione incendi
DESCRIPTION:Sviluppi normativi “il D.M. 12.04.2019 di modifiche al D.M. 03.08.2015” e  il D.M. 03.09.2021 cosiddetto “Minicodice” \n\n        \n            Allegati\n        17.04.2025 Ordine Ingegneri - Tavola Rotonda (411 kB)
URL:https://peritiverona.com/evento/corso-di-aggiornamento-di-prevenzione-incendi/
LOCATION:Ordine dei Periti Industriali e Periti Industriali Laureati  della Provincia di Verona\, via Monte Comun 27\, San Giovanni Lupatoto\, 37057
CATEGORIES:Eventi formazione continua
END:VEVENT
BEGIN:VEVENT
DTSTART;TZID=Europe/Rome:20251114T140000
DTEND;TZID=Europe/Rome:20251114T180000
DTSTAMP:20260422T234655
CREATED:20251024T071249Z
LAST-MODIFIED:20251024T071249Z
UID:10250-1763128800-1763143200@peritiverona.com
SUMMARY:Incontro tecnico Edilizia: sopravvivere o evolvere? La sfida Minergie arriva in Italia
DESCRIPTION:14.11.2025 Minergie Italia \n\n        \n            Allegati\n        17.04.2025 Ordine Ingegneri - Tavola Rotonda (411 kB)
URL:https://peritiverona.com/evento/incontro-tecnico-edilizia-sopravvivere-o-evolvere-la-sfida-minergie-arriva-in-italia/
LOCATION:WINTER GARDEN CROWNE PLAZA HOTEL\, Via Belgio 16\, VERONA\, 37135
CATEGORIES:Eventi formazione continua
END:VEVENT
BEGIN:VEVENT
DTSTART;TZID=Europe/Rome:20251119T083000
DTEND;TZID=Europe/Rome:20251119T123000
DTSTAMP:20260422T234655
CREATED:20251017T091553Z
LAST-MODIFIED:20251017T091553Z
UID:10160-1763541000-1763555400@peritiverona.com
SUMMARY:Corso di aggiornamento di prevenzione incendi
DESCRIPTION:Edifici per civile abitazione (DM 16.05.1987 n°246 e D.M. 25.01.2019) e nuove RTV introdotte dal DM 19.05.2022 (V14 del codice) e dal DM 30.03.2022 (V13 del codice) concernente le chiusure d’ambito degli edifici \n\n        \n            Allegati\n        17.04.2025 Ordine Ingegneri - Tavola Rotonda (411 kB)
URL:https://peritiverona.com/evento/corso-di-aggiornamento-di-prevenzione-incendi-2/
LOCATION:Ordine dei Periti Industriali e Periti Industriali Laureati  della Provincia di Verona\, via Monte Comun 27\, San Giovanni Lupatoto\, 37057
CATEGORIES:Eventi formazione continua
END:VEVENT
BEGIN:VEVENT
DTSTART;TZID=Europe/Rome:20251125T170000
DTEND;TZID=Europe/Rome:20251125T190000
DTSTAMP:20260422T234655
CREATED:20251111T113357Z
LAST-MODIFIED:20251111T113357Z
UID:10318-1764090000-1764097200@peritiverona.com
SUMMARY:Corso formativo deontologico
DESCRIPTION:Allegati\n        17.04.2025 Ordine Ingegneri - Tavola Rotonda (411 kB)
URL:https://peritiverona.com/evento/corso-formativo-deontologico-4/
LOCATION:Ordine dei Periti Industriali e Periti Industriali Laureati  della Provincia di Verona\, via Monte Comun 27\, San Giovanni Lupatoto\, 37057
CATEGORIES:Eventi formazione continua
END:VEVENT
BEGIN:VEVENT
DTSTART;TZID=Europe/Rome:20251126T083000
DTEND;TZID=Europe/Rome:20251126T123000
DTSTAMP:20260422T234655
CREATED:20251017T091648Z
LAST-MODIFIED:20251017T091648Z
UID:10162-1764145800-1764160200@peritiverona.com
SUMMARY:Corso di aggiornamento di prevenzione incendi
DESCRIPTION:Normativa locali Pubblico Spettacolo D.M. 19.08.1996 –  RT V15 D.M. 22.11.2022. Approccio alla valutazione nei casi di manifestazioni temporanee e assoggettabilità a Commissioni di Vigilanza sui Locali di Pubblico Spettacolo \n\n        \n            Allegati\n        17.04.2025 Ordine Ingegneri - Tavola Rotonda (411 kB)
URL:https://peritiverona.com/evento/corso-di-aggiornamento-di-prevenzione-incendi-3/
LOCATION:Ordine dei Periti Industriali e Periti Industriali Laureati  della Provincia di Verona\, via Monte Comun 27\, San Giovanni Lupatoto\, 37057
CATEGORIES:Eventi formazione continua
END:VEVENT
BEGIN:VEVENT
DTSTART;TZID=Europe/Rome:20251127T143000
DTEND;TZID=Europe/Rome:20251127T183000
DTSTAMP:20260422T234655
CREATED:20251111T090150Z
LAST-MODIFIED:20251111T090150Z
UID:10303-1764253800-1764268200@peritiverona.com
SUMMARY:Incontro tecnico Efficienza e qualità dell'aria negli edifici
DESCRIPTION:27.11.2025 Ticerform \n\n        \n            Allegati\n        17.04.2025 Ordine Ingegneri - Tavola Rotonda (411 kB)
URL:https://peritiverona.com/evento/incontro-tecnico-efficienza-e-qualita-dellaria-negli-edifici/
LOCATION:Best Western Plus Hotel Expo\, VIA PORTOGALLO 1/P\, VILLAFRANCA DI VERONA\, 37069\, Italia
CATEGORIES:Eventi formazione continua
END:VEVENT
BEGIN:VEVENT
DTSTART;TZID=Europe/Rome:20260205T093000
DTEND;TZID=Europe/Rome:20260205T123000
DTSTAMP:20260422T234655
CREATED:20260122T105642Z
LAST-MODIFIED:20260122T105642Z
UID:10423-1770283800-1770294600@peritiverona.com
SUMMARY:Seminario Conto Termico 3.0 ed ecobonus
DESCRIPTION:05.02.2026 H25 \n\n        \n            Allegati\n        17.04.2025 Ordine Ingegneri - Tavola Rotonda (411 kB)
URL:https://peritiverona.com/evento/seminario-conto-termico-3-0-ed-ecobonus/
LOCATION:BORGO ROCCA SVEVA\, VIA CONVERGNINO 7\, SOAVE\, 37038\, Italia
CATEGORIES:Eventi formazione continua
END:VEVENT
BEGIN:VEVENT
DTSTART;TZID=Europe/Rome:20260226T090000
DTEND;TZID=Europe/Rome:20260226T123000
DTSTAMP:20260422T234655
CREATED:20260210T095526Z
LAST-MODIFIED:20260210T095526Z
UID:10463-1772096400-1772109000@peritiverona.com
SUMMARY:Seminario Riscaldamento e raffrescamento efficienti: il valore del recupero di calore
DESCRIPTION:26.02.2026 BSG \n\n        \n            Allegati\n        17.04.2025 Ordine Ingegneri - Tavola Rotonda (411 kB)
URL:https://peritiverona.com/evento/seminario-riscaldamento-e-raffrescamento-efficienti-il-valore-del-recupero-di-calore/
LOCATION:Ordine dei Periti Industriali e Periti Industriali Laureati  della Provincia di Verona\, via Monte Comun 27\, San Giovanni Lupatoto\, 37057
CATEGORIES:Eventi formazione continua
END:VEVENT
BEGIN:VEVENT
DTSTART;TZID=Europe/Rome:20260303T143000
DTEND;TZID=Europe/Rome:20260303T183000
DTSTAMP:20260422T234655
CREATED:20260211T114024Z
LAST-MODIFIED:20260211T114024Z
UID:10478-1772548200-1772562600@peritiverona.com
SUMMARY:Seminario di aggiornamento prevenzione incendi
DESCRIPTION:Locandina 03.03.2026 \n\n        \n            Allegati\n        17.04.2025 Ordine Ingegneri - Tavola Rotonda (411 kB)
URL:https://peritiverona.com/evento/seminario-di-aggiornamento-prevenzione-incendi-10/
LOCATION:Istituto Salesiano San Zeno\, Via Don Minzoni 50\, Verona\, 37138
CATEGORIES:Eventi formazione continua
END:VEVENT
BEGIN:VEVENT
DTSTART;TZID=Europe/Rome:20260306T140000
DTEND;TZID=Europe/Rome:20260306T180000
DTSTAMP:20260422T234655
CREATED:20260223T090525Z
LAST-MODIFIED:20260223T090525Z
UID:10564-1772805600-1772820000@peritiverona.com
SUMMARY:Corsi CQ-Costruire in Qualità- Edizione 2026- Convegno di apertura
DESCRIPTION:Convegno CQ 06.03.2026 \n\n        \n            Allegati\n        17.04.2025 Ordine Ingegneri - Tavola Rotonda (411 kB)
URL:https://peritiverona.com/evento/corsi-cq-costruire-in-qualita-edizione-2026-convegno-di-apertura/
LOCATION:Hotel Crowne Plaza\, Via Belgio\, 16\, Verona\, 37135\, Italia
CATEGORIES:Eventi formazione continua
END:VEVENT
BEGIN:VEVENT
DTSTART;TZID=Europe/Rome:20260320T170000
DTEND;TZID=Europe/Rome:20260320T190000
DTSTAMP:20260422T234655
CREATED:20260302T114549Z
LAST-MODIFIED:20260302T114549Z
UID:10733-1774026000-1774033200@peritiverona.com
SUMMARY:Corso formativo deontologico
DESCRIPTION:20.03.2026 \n\n        \n            Allegati\n        17.04.2025 Ordine Ingegneri - Tavola Rotonda (411 kB)
URL:https://peritiverona.com/evento/corso-formativo-deontologico-5/
LOCATION:Ordine dei Periti Industriali e Periti Industriali Laureati  della Provincia di Verona\, via Monte Comun 27\, San Giovanni Lupatoto\, 37057
CATEGORIES:Eventi formazione continua
END:VEVENT
BEGIN:VEVENT
DTSTART;TZID=Europe/Rome:20260420T110000
DTEND;TZID=Europe/Rome:20260420T120000
DTSTAMP:20260422T234655
CREATED:20260330T070649Z
LAST-MODIFIED:20260330T070649Z
UID:10893-1776682800-1776686400@peritiverona.com
SUMMARY:Convocazione dell'Assemblea per l'approvazione dei bilanci
DESCRIPTION:Convocazione Assemblea approvazione bilanci \n\n        \n            Allegati\n        17.04.2025 Ordine Ingegneri - Tavola Rotonda (411 kB)
URL:https://peritiverona.com/evento/convocazione-dellassemblea-per-lapprovazione-dei-bilanci-2/
LOCATION:Ordine dei Periti Industriali e Periti Industriali Laureati  della Provincia di Verona\, via Monte Comun 27\, San Giovanni Lupatoto\, 37057
END:VEVENT
END:VCALENDAR