BEGIN:VCALENDAR
VERSION:2.0
PRODID:-//Ordine dei Periti Industriali e Periti Industriali Laureati  della Provincia di Verona - ECPv6.6.2//NONSGML v1.0//EN
CALSCALE:GREGORIAN
METHOD:PUBLISH
X-WR-CALNAME:Ordine dei Periti Industriali e Periti Industriali Laureati  della Provincia di Verona
X-ORIGINAL-URL:https://peritiverona.com
X-WR-CALDESC:Eventi per Ordine dei Periti Industriali e Periti Industriali Laureati  della Provincia di Verona
REFRESH-INTERVAL;VALUE=DURATION:PT1H
X-Robots-Tag:noindex
X-PUBLISHED-TTL:PT1H
BEGIN:VTIMEZONE
TZID:Europe/Rome
BEGIN:DAYLIGHT
TZOFFSETFROM:+0100
TZOFFSETTO:+0200
TZNAME:CEST
DTSTART:20240331T010000
END:DAYLIGHT
BEGIN:STANDARD
TZOFFSETFROM:+0200
TZOFFSETTO:+0100
TZNAME:CET
DTSTART:20241027T010000
END:STANDARD
BEGIN:DAYLIGHT
TZOFFSETFROM:+0100
TZOFFSETTO:+0200
TZNAME:CEST
DTSTART:20250330T010000
END:DAYLIGHT
BEGIN:STANDARD
TZOFFSETFROM:+0200
TZOFFSETTO:+0100
TZNAME:CET
DTSTART:20251026T010000
END:STANDARD
END:VTIMEZONE
BEGIN:VEVENT
DTSTART;TZID=Europe/Rome:20250515T160000
DTEND;TZID=Europe/Rome:20250515T180000
DTSTAMP:20260419T192745
CREATED:20250424T071622Z
LAST-MODIFIED:20250424T071622Z
UID:9692-1747324800-1747332000@peritiverona.com
SUMMARY:Seminario La corretta progettazione del sistema vetrato: comfort visivo e comfort termico
DESCRIPTION:15.05.2025 Pellini e Ordine ingegneri \n\n        \n            Allegati\n        17.06.2025 Howden (209 kB)
URL:https://peritiverona.com/evento/seminario-la-corretta-progettazione-del-sistema-vetrato-comfort-visivo-e-comfort-termico/
LOCATION:ORDINE DEGLI INGEGNERI DI VERONA\, VIA SANTA TERESA 12\, VERONA\, 37135\, Italia
CATEGORIES:Eventi formazione continua
END:VEVENT
BEGIN:VEVENT
DTSTART;TZID=Europe/Rome:20250514T140000
DTEND;TZID=Europe/Rome:20250514T173000
DTSTAMP:20260419T192745
CREATED:20250506T104617Z
LAST-MODIFIED:20250506T104643Z
UID:9772-1747231200-1747243800@peritiverona.com
SUMMARY:Convegno: La sicurezza nei cantieri\, profili critici e spunti di gestione
DESCRIPTION:14.05.2025 Locandina__AIAS \n\n        \n            Allegati\n        17.06.2025 Howden (209 kB)
URL:https://peritiverona.com/evento/convegno-la-sicurezza-nei-cantieri-profili-critici-e-spunti-di-gestione/
LOCATION:DB Hotel\, Via Aeroporto 20/C\, SOMMACAMPAGNA\, 37066\, Italia
CATEGORIES:Eventi formazione continua
END:VEVENT
BEGIN:VEVENT
DTSTART;TZID=Europe/Rome:20250513T143000
DTEND;TZID=Europe/Rome:20250513T173000
DTSTAMP:20260419T192745
CREATED:20250423T074056Z
LAST-MODIFIED:20250423T074056Z
UID:9674-1747146600-1747157400@peritiverona.com
SUMMARY:Seminario Le soluzioni di illuminazione di Ledvance e dimensionamento illuminotecnico con Dialux Evo
DESCRIPTION:13.05.2025 Ledavance \n\n        \n            Allegati\n        17.06.2025 Howden (209 kB)
URL:https://peritiverona.com/evento/seminario-le-soluzioni-di-illuminazione-di-ledvance-e-dimensionamento-illuminotecnico-con-dialux-evo/
LOCATION:Ordine dei Periti Industriali e Periti Industriali Laureati  della Provincia di Verona\, via Monte Comun 27\, San Giovanni Lupatoto\, 37057
CATEGORIES:Eventi formazione continua
END:VEVENT
BEGIN:VEVENT
DTSTART;TZID=Europe/Rome:20250509T150000
DTEND;TZID=Europe/Rome:20250509T190000
DTSTAMP:20260419T192745
CREATED:20250430T065950Z
LAST-MODIFIED:20250430T065950Z
UID:9721-1746802800-1746817200@peritiverona.com
SUMMARY:Incontro tecnico Luce per l'arte\, arte della luce
DESCRIPTION:09.05.2025 luce \n\n        \n            Allegati\n        17.06.2025 Howden (209 kB)
URL:https://peritiverona.com/evento/incontro-tecnico-luce-per-larte-arte-della-luce/
LOCATION:VILLA NICHESOLA CONFORTI\, VIA DOMEGLIARA 5\, SANT'AMBROGIO DI VALPOLICELLA\, 37015\, Italia
CATEGORIES:Eventi formazione continua
END:VEVENT
BEGIN:VEVENT
DTSTART;TZID=Europe/Rome:20250507T143000
DTEND;TZID=Europe/Rome:20250507T183000
DTSTAMP:20260419T192745
CREATED:20250422T073717Z
LAST-MODIFIED:20250422T073717Z
UID:9651-1746628200-1746642600@peritiverona.com
SUMMARY:Incontro tecnico Progettare il futuro degli impianti termici
DESCRIPTION:07.05.2025 Baltur \n\n        \n            Allegati\n        17.06.2025 Howden (209 kB)
URL:https://peritiverona.com/evento/incontro-tecnico-progettare-il-futuro-degli-impianti-termici/
LOCATION:AZIENDA AGRITURISTICA MONTETONDO\, VIA SAN LORENZO 89\, SOAVE\, 37038
CATEGORIES:Eventi formazione continua
END:VEVENT
BEGIN:VEVENT
DTSTART;TZID=Europe/Rome:20250417T140000
DTEND;TZID=Europe/Rome:20250417T173000
DTSTAMP:20260419T192745
CREATED:20250327T103214Z
LAST-MODIFIED:20250327T103214Z
UID:9570-1744898400-1744911000@peritiverona.com
SUMMARY:Tavola Rotonda Il valore dell'abitare a Verona
DESCRIPTION:17.04.2025 Tavola Rotonda \n\n        \n            Allegati\n        17.06.2025 Howden (209 kB)
URL:https://peritiverona.com/evento/tavola-rotonda-il-valore-dellabitare-a-verona/
LOCATION:TEATRO STIMATE\, VIA CARLO MONTANARI 1\, VERONA\, 37122\, Italia
CATEGORIES:Eventi formazione continua
END:VEVENT
BEGIN:VEVENT
DTSTART;TZID=Europe/Rome:20250414T110000
DTEND;TZID=Europe/Rome:20250414T170000
DTSTAMP:20260419T192745
CREATED:20250324T081651Z
LAST-MODIFIED:20250324T081651Z
UID:9557-1744628400-1744650000@peritiverona.com
SUMMARY:Convocazione dell'Assemblea per l'approvazione dei bilanci
DESCRIPTION:Convocazione Assemblea\n \n\n        \n            Allegati\n        17.06.2025 Howden (209 kB)
URL:https://peritiverona.com/evento/convocazione-dellassemblea-per-lapprovazione-dei-bilanci/
LOCATION:Ordine dei Periti Industriali e Periti Industriali Laureati  della Provincia di Verona\, via Monte Comun 27\, San Giovanni Lupatoto\, 37057
END:VEVENT
BEGIN:VEVENT
DTSTART;TZID=Europe/Rome:20250408T143000
DTEND;TZID=Europe/Rome:20250408T183000
DTSTAMP:20260419T192745
CREATED:20250404T094627Z
LAST-MODIFIED:20250404T094627Z
UID:9596-1744122600-1744137000@peritiverona.com
SUMMARY:Seminario di aggiornamento prevenzione incendi
DESCRIPTION:Locandina 08.04.2025 \n\n        \n            Allegati\n        17.06.2025 Howden (209 kB)
URL:https://peritiverona.com/evento/seminario-di-aggiornamento-prevenzione-incendi-8/
LOCATION:Istituto Salesiano San Zeno\, Via Don Minzoni 50\, Verona\, 37138
CATEGORIES:Eventi formazione continua
END:VEVENT
BEGIN:VEVENT
DTSTART;TZID=Europe/Rome:20250408T090000
DTEND;TZID=Europe/Rome:20250408T130000
DTSTAMP:20260419T192745
CREATED:20250320T100406Z
LAST-MODIFIED:20250324T081949Z
UID:9536-1744102800-1744117200@peritiverona.com
SUMMARY:Seminario Nuova direttiva EPBD e pompe di calore
DESCRIPTION:08.04.2025 Ariston \n\n        \n            Allegati\n        17.06.2025 Howden (209 kB)
URL:https://peritiverona.com/evento/seminario-nuova-direttiva-epbd-e-pompe-di-calore/
LOCATION:VILLA BONGIOVANNI\, Via Perarolo\, 36\, LOCARA\, 37047\, Italia
CATEGORIES:Eventi formazione continua
END:VEVENT
BEGIN:VEVENT
DTSTART;TZID=Europe/Rome:20250327T140000
DTEND;TZID=Europe/Rome:20250327T180000
DTSTAMP:20260419T192745
CREATED:20250312T113921Z
LAST-MODIFIED:20250312T113930Z
UID:9488-1743084000-1743098400@peritiverona.com
SUMMARY:Incontro tecnico Denuncia impianto riscaldamento ad acqua calda: modalità di utilizzo dell'applicativo CIVA
DESCRIPTION:27.03.2025 Cosmogas \n\n        \n            Allegati\n        17.06.2025 Howden (209 kB)
URL:https://peritiverona.com/evento/incontro-tecnico-denuncia-impianto-riscaldamento-ad-acqua-calda-modalita-di-utilizzo-dellapplicativo-civa/
LOCATION:Ordine dei Periti Industriali e Periti Industriali Laureati  della Provincia di Verona\, via Monte Comun 27\, San Giovanni Lupatoto\, 37057
CATEGORIES:Eventi formazione continua
END:VEVENT
BEGIN:VEVENT
DTSTART;TZID=Europe/Rome:20250321T143000
DTEND;TZID=Europe/Rome:20250321T183000
DTSTAMP:20260419T192745
CREATED:20250312T084921Z
LAST-MODIFIED:20250312T084921Z
UID:9478-1742567400-1742581800@peritiverona.com
SUMMARY:Convegno - Il Futuro della progettazione: la semplificazione in materia di edilizia e costruzioni
DESCRIPTION:21.03.2025 Il Futuro della progettazione \n\n        \n            Allegati\n        17.06.2025 Howden (209 kB)
URL:https://peritiverona.com/evento/convegno-il-futuro-della-progettazione-la-semplificazione-in-materia-di-edilizia-e-costruzioni/
LOCATION:MONTRESOR HOTEL TOWER\, Via A. Mantegna\, 30\, BUSSOLENGO\, 37012\, Italia
CATEGORIES:Eventi formazione continua
END:VEVENT
BEGIN:VEVENT
DTSTART;TZID=Europe/Rome:20250321T100000
DTEND;TZID=Europe/Rome:20250321T173000
DTSTAMP:20260419T192745
CREATED:20250227T084310Z
LAST-MODIFIED:20250227T084310Z
UID:9447-1742551200-1742578200@peritiverona.com
SUMMARY:Seminario di aggiornamento prevenzione incendi
DESCRIPTION:Locandina 21.03.2025 \n\n        \n            Allegati\n        17.06.2025 Howden (209 kB)
URL:https://peritiverona.com/evento/seminario-di-aggiornamento-prevenzione-incendi-7/
LOCATION:Hotel Caesius\, Via Peschiera\, 3\, Bardolino\, 37011\, Italia
CATEGORIES:Eventi formazione continua
END:VEVENT
BEGIN:VEVENT
DTSTART;TZID=Europe/Rome:20250320T140000
DTEND;TZID=Europe/Rome:20250320T180000
DTSTAMP:20260419T192745
CREATED:20250225T074809Z
LAST-MODIFIED:20250225T074809Z
UID:9414-1742479200-1742493600@peritiverona.com
SUMMARY:Seminario Soluzioni impiantistiche integrate per edifici a basso consumo
DESCRIPTION:20.03.2025 Energetika \n\n        \n            Allegati\n        17.06.2025 Howden (209 kB)
URL:https://peritiverona.com/evento/seminario-soluzioni-impiantistiche-integrate-per-edifici-a-basso-consumo/
LOCATION:Ordine dei Periti Industriali e Periti Industriali Laureati  della Provincia di Verona\, via Monte Comun 27\, San Giovanni Lupatoto\, 37057
CATEGORIES:Eventi formazione continua
END:VEVENT
BEGIN:VEVENT
DTSTART;TZID=Europe/Rome:20250314T140000
DTEND;TZID=Europe/Rome:20250314T180000
DTSTAMP:20260419T192745
CREATED:20250226T092636Z
LAST-MODIFIED:20250226T092636Z
UID:9433-1741960800-1741975200@peritiverona.com
SUMMARY:Corsi CQ-Costruire in Qualità- Edizione 2025 - convegno di apertura
DESCRIPTION:Convegno CQ 14.03.2025 \n\n        \n            Allegati\n        17.06.2025 Howden (209 kB)
URL:https://peritiverona.com/evento/corsi-cq-costruire-in-qualita-edizione-2025-convegno-di-apertura/
LOCATION:WINTER GARDEN CROWNE PLAZA HOTEL\, Via Belgio 16\, VERONA\, 37135
CATEGORIES:Eventi formazione continua
END:VEVENT
BEGIN:VEVENT
DTSTART;TZID=Europe/Rome:20250204T140000
DTEND;TZID=Europe/Rome:20250204T170000
DTSTAMP:20260419T192745
CREATED:20250120T100928Z
LAST-MODIFIED:20250120T100928Z
UID:9340-1738677600-1738688400@peritiverona.com
SUMMARY:Seminario La nuova Norma UNI 9795 ed. 2021
DESCRIPTION:04.02.2025 Urmet \n\n        \n            Allegati\n        17.06.2025 Howden (209 kB)
URL:https://peritiverona.com/evento/seminario-la-nuova-norma-uni-9795-ed-2021/
LOCATION:Ordine dei Periti Industriali e Periti Industriali Laureati  della Provincia di Verona\, via Monte Comun 27\, San Giovanni Lupatoto\, 37057
CATEGORIES:Eventi formazione continua
END:VEVENT
BEGIN:VEVENT
DTSTART;TZID=Europe/Rome:20250130T123000
DTEND;TZID=Europe/Rome:20250130T170000
DTSTAMP:20260419T192745
CREATED:20250109T123020Z
LAST-MODIFIED:20250109T123020Z
UID:9309-1738240200-1738256400@peritiverona.com
SUMMARY:Seminario La transizione energetica con i nuovi gas refrigeranti
DESCRIPTION:30.01.2025 H25 \n\n        \n            Allegati\n        17.06.2025 Howden (209 kB)
URL:https://peritiverona.com/evento/seminario-la-transizione-energetica-con-i-nuovi-gas-refrigeranti/
LOCATION:BORGO ROCCA SVEVA\, VIA CONVERGNINO 7\, SOAVE\, 37038\, Italia
CATEGORIES:Eventi formazione continua
END:VEVENT
BEGIN:VEVENT
DTSTART;TZID=Europe/Rome:20241203T143000
DTEND;TZID=Europe/Rome:20241203T183000
DTSTAMP:20260419T192745
CREATED:20241114T090517Z
LAST-MODIFIED:20241114T090517Z
UID:9195-1733236200-1733250600@peritiverona.com
SUMMARY:Seminario di aggiornamento prevenzione incendi
DESCRIPTION:Locandina 03.12.2024 \n\n        \n            Allegati\n        17.06.2025 Howden (209 kB)
URL:https://peritiverona.com/evento/seminario-di-aggiornamento-prevenzione-incendi-6/
LOCATION:Camera di Commercio Verona\, Corso Porta Nuova\, 96\, Verona\, Italia\, 37122
CATEGORIES:Eventi formazione continua
END:VEVENT
BEGIN:VEVENT
DTSTART;TZID=Europe/Rome:20241128T170000
DTEND;TZID=Europe/Rome:20241128T190000
DTSTAMP:20260419T192745
CREATED:20241115T111457Z
LAST-MODIFIED:20241115T111457Z
UID:9210-1732813200-1732820400@peritiverona.com
SUMMARY:Corso formativo deontologico
DESCRIPTION:Allegati\n        17.06.2025 Howden (209 kB)
URL:https://peritiverona.com/evento/corso-formativo-deontologico-3/
LOCATION:Ordine dei Periti Industriali e Periti Industriali Laureati  della Provincia di Verona\, via Monte Comun 27\, San Giovanni Lupatoto\, 37057
CATEGORIES:Eventi formazione continua
END:VEVENT
BEGIN:VEVENT
DTSTART;TZID=Europe/Rome:20241121T140000
DTEND;TZID=Europe/Rome:20241122T130000
DTSTAMP:20260419T192745
CREATED:20240924T074455Z
LAST-MODIFIED:20240924T074455Z
UID:8995-1732197600-1732280400@peritiverona.com
SUMMARY:Congresso Nazionale ANIT
DESCRIPTION:21-22.11.2024 ANIT \n\n        \n            Allegati\n        17.06.2025 Howden (209 kB)
URL:https://peritiverona.com/evento/congresso-nazionale-anit/
LOCATION:VILLA QUARANTA\, Via Ospedaletto 57\, OSPEDALETTO\, 37026\, Italia
CATEGORIES:Eventi formazione continua
END:VEVENT
BEGIN:VEVENT
DTSTART;TZID=Europe/Rome:20241114T090000
DTEND;TZID=Europe/Rome:20241114T130000
DTSTAMP:20260419T192745
CREATED:20241022T093734Z
LAST-MODIFIED:20241022T093745Z
UID:9093-1731574800-1731589200@peritiverona.com
SUMMARY:Corso di aggiornamento Prevenzione Incendi
DESCRIPTION:PROGRAMMA CORSO BATTERIE AL LITIO \n\n        \n            Allegati\n        17.06.2025 Howden (209 kB)
URL:https://peritiverona.com/evento/corso-di-aggiornamento-prevenzione-incendi/
LOCATION:Ordine dei Periti Industriali e Periti Industriali Laureati  della Provincia di Verona\, via Monte Comun 27\, San Giovanni Lupatoto\, 37057
CATEGORIES:Eventi formazione continua
END:VEVENT
BEGIN:VEVENT
DTSTART;TZID=Europe/Rome:20241112T140000
DTEND;TZID=Europe/Rome:20241112T180000
DTSTAMP:20260419T192745
CREATED:20241029T094622Z
LAST-MODIFIED:20241029T094636Z
UID:9136-1731420000-1731434400@peritiverona.com
SUMMARY:Convegno Progettare e rendere efficienti i sistemi di ricarica dei veicoli elettrici
DESCRIPTION:12.11.2024 NT24 \n\n        \n            Allegati\n        17.06.2025 Howden (209 kB)
URL:https://peritiverona.com/evento/convegno-progettare-e-rendere-efficienti-i-sistemi-di-ricarica-dei-veicoli-elettrici/
LOCATION:Ordine dei Periti Industriali e Periti Industriali Laureati  della Provincia di Verona\, via Monte Comun 27\, San Giovanni Lupatoto\, 37057
CATEGORIES:Eventi formazione continua
END:VEVENT
BEGIN:VEVENT
DTSTART;TZID=Europe/Rome:20241107T140000
DTEND;TZID=Europe/Rome:20241107T183000
DTSTAMP:20260419T192745
CREATED:20241004T081153Z
LAST-MODIFIED:20241004T081153Z
UID:9033-1730988000-1731004200@peritiverona.com
SUMMARY:Seminario La sicurezza del Made in Italy
DESCRIPTION:07.11.2024 La sicurezza del Made in Italy \n\n        \n            Allegati\n        17.06.2025 Howden (209 kB)
URL:https://peritiverona.com/evento/seminario-la-sicurezza-del-made-in-italy/
LOCATION:SHG Hotel Catullo\, Viale del Lavoro 35/37\, San Martino Buonalbergo\, 37036\, Italia
CATEGORIES:Eventi formazione continua
END:VEVENT
BEGIN:VEVENT
DTSTART;TZID=Europe/Rome:20241106T140000
DTEND;TZID=Europe/Rome:20241106T173000
DTSTAMP:20260419T192745
CREATED:20241028T090415Z
LAST-MODIFIED:20241028T090415Z
UID:9112-1730901600-1730914200@peritiverona.com
SUMMARY:L'evoluzione della strategia di esodo: novità Norme UNI 9795:2021 ed EN1838
DESCRIPTION:06.11.2024 Eaton \n\n        \n            Allegati\n        17.06.2025 Howden (209 kB)
URL:https://peritiverona.com/evento/levoluzione-della-strategia-di-esodo-novita-norme-uni-97952021-ed-en1838/
LOCATION:SALA MEETING SIGNORVINO\, Via Preare 15\, VERONA\, 37124\, Italia
CATEGORIES:Eventi formazione continua
END:VEVENT
BEGIN:VEVENT
DTSTART;TZID=Europe/Rome:20241029T143000
DTEND;TZID=Europe/Rome:20241029T183000
DTSTAMP:20260419T192745
CREATED:20240909T070658Z
LAST-MODIFIED:20240909T070658Z
UID:8944-1730212200-1730226600@peritiverona.com
SUMMARY:Seminario di aggiornamento prevenzione incendi
DESCRIPTION:Locandina 29.10.2024  \n\n        \n            Allegati\n        17.06.2025 Howden (209 kB)
URL:https://peritiverona.com/evento/seminario-di-aggiornamento-prevenzione-incendi-5/
LOCATION:Camera di Commercio Verona\, Corso Porta Nuova\, 96\, Verona\, Italia\, 37122
CATEGORIES:Eventi formazione continua
END:VEVENT
BEGIN:VEVENT
DTSTART;TZID=Europe/Rome:20241015T100000
DTEND;TZID=Europe/Rome:20241015T120000
DTSTAMP:20260419T192745
CREATED:20240925T065902Z
LAST-MODIFIED:20240925T065902Z
UID:9008-1728986400-1728993600@peritiverona.com
SUMMARY:Webinar Trattamento di acque reflue e di acque piovane
DESCRIPTION:15.10.2024 Webinar Rototec \n\n        \n            Allegati\n        17.06.2025 Howden (209 kB)
URL:https://peritiverona.com/evento/webinar-trattamento-di-acque-reflue-e-di-acque-piovane/
CATEGORIES:Eventi formazione continua
END:VEVENT
BEGIN:VEVENT
DTSTART;TZID=Europe/Rome:20241004T100000
DTEND;TZID=Europe/Rome:20241004T130000
DTSTAMP:20260419T192745
CREATED:20240923T070522Z
LAST-MODIFIED:20240923T070522Z
UID:8982-1728036000-1728046800@peritiverona.com
SUMMARY:Convegno Per guidare un'impresa serve la patente
DESCRIPTION:04.10.2024 ANCE Convegno Patente a punti \n\n        \n            Allegati\n        17.06.2025 Howden (209 kB)
URL:https://peritiverona.com/evento/convegno-per-guidare-unimpresa-serve-la-patente/
LOCATION:Istituto Salesiano San Zeno\, Via Don Minzoni 50\, Verona\, 37138
CATEGORIES:Eventi formazione continua
END:VEVENT
BEGIN:VEVENT
DTSTART;TZID=Europe/Rome:20241002T140000
DTEND;TZID=Europe/Rome:20241002T180000
DTSTAMP:20260419T192745
CREATED:20240917T074130Z
LAST-MODIFIED:20240917T074130Z
UID:8962-1727877600-1727892000@peritiverona.com
SUMMARY:Seminario Qualità delle acque destinate al consumo umano
DESCRIPTION:02.10.2024 SEMINARIO BWT ITALIA \n\n        \n            Allegati\n        17.06.2025 Howden (209 kB)
URL:https://peritiverona.com/evento/seminario-qualita-delle-acque-destinate-al-consumo-umano/
LOCATION:Ordine dei Periti Industriali e Periti Industriali Laureati  della Provincia di Verona\, via Monte Comun 27\, San Giovanni Lupatoto\, 37057
CATEGORIES:Eventi formazione continua
END:VEVENT
BEGIN:VEVENT
DTSTART;TZID=Europe/Rome:20240917T143000
DTEND;TZID=Europe/Rome:20240917T173000
DTSTAMP:20260419T192745
CREATED:20240830T094404Z
LAST-MODIFIED:20240830T094404Z
UID:8918-1726583400-1726594200@peritiverona.com
SUMMARY:Seminario Fibra ottica: soluzioni-normative-scenari applicativi
DESCRIPTION:17.09.2024 Cloud-Comm \n\n        \n            Allegati\n        17.06.2025 Howden (209 kB)
URL:https://peritiverona.com/evento/seminario-fibra-ottica-soluzioni-normative-scenari-applicativi/
LOCATION:Ordine dei Periti Industriali e Periti Industriali Laureati  della Provincia di Verona\, via Monte Comun 27\, San Giovanni Lupatoto\, 37057
CATEGORIES:Eventi formazione continua
END:VEVENT
BEGIN:VEVENT
DTSTART;TZID=Europe/Rome:20240912T090000
DTEND;TZID=Europe/Rome:20240912T120000
DTSTAMP:20260419T192745
CREATED:20240830T080821Z
LAST-MODIFIED:20240830T080821Z
UID:8909-1726131600-1726142400@peritiverona.com
SUMMARY:Seminario Il sistema innovativo per la climatizzazione annuale
DESCRIPTION:12.09.2024 Olimpia Splendid \n\n        \n            Allegati\n        17.06.2025 Howden (209 kB)
URL:https://peritiverona.com/evento/seminario-il-sistema-innovativo-per-la-climatizzazione-annuale/
LOCATION:Ordine dei Periti Industriali e Periti Industriali Laureati  della Provincia di Verona\, via Monte Comun 27\, San Giovanni Lupatoto\, 37057
CATEGORIES:Eventi formazione continua
END:VEVENT
BEGIN:VEVENT
DTSTART;TZID=Europe/Rome:20240619T090000
DTEND;TZID=Europe/Rome:20240619T120000
DTSTAMP:20260419T192745
CREATED:20240529T064134Z
LAST-MODIFIED:20240529T064134Z
UID:8723-1718787600-1718798400@peritiverona.com
SUMMARY:Seminario Impianti di climatizzazione per edifici efficienti
DESCRIPTION:19.06.2024 seminario INNOVA \n\n        \n            Allegati\n        17.06.2025 Howden (209 kB)
URL:https://peritiverona.com/evento/seminario-impianti-di-climatizzazione-per-edifici-efficienti/
LOCATION:Ordine dei Periti Industriali e Periti Industriali Laureati  della Provincia di Verona\, via Monte Comun 27\, San Giovanni Lupatoto\, 37057
CATEGORIES:Eventi formazione continua
END:VEVENT
END:VCALENDAR