BEGIN:VCALENDAR
VERSION:2.0
PRODID:-//Ordine dei Periti Industriali e Periti Industriali Laureati  della Provincia di Verona - ECPv6.6.2//NONSGML v1.0//EN
CALSCALE:GREGORIAN
METHOD:PUBLISH
X-WR-CALNAME:Ordine dei Periti Industriali e Periti Industriali Laureati  della Provincia di Verona
X-ORIGINAL-URL:https://peritiverona.com
X-WR-CALDESC:Eventi per Ordine dei Periti Industriali e Periti Industriali Laureati  della Provincia di Verona
REFRESH-INTERVAL;VALUE=DURATION:PT1H
X-Robots-Tag:noindex
X-PUBLISHED-TTL:PT1H
BEGIN:VTIMEZONE
TZID:Europe/Rome
BEGIN:DAYLIGHT
TZOFFSETFROM:+0100
TZOFFSETTO:+0200
TZNAME:CEST
DTSTART:20190331T010000
END:DAYLIGHT
BEGIN:STANDARD
TZOFFSETFROM:+0200
TZOFFSETTO:+0100
TZNAME:CET
DTSTART:20191027T010000
END:STANDARD
END:VTIMEZONE
BEGIN:VEVENT
DTSTART;TZID=Europe/Rome:20190926T140000
DTEND;TZID=Europe/Rome:20190926T183000
DTSTAMP:20260421T014819
CREATED:20190923T084554Z
LAST-MODIFIED:20190923T084554Z
UID:1497-1569506400-1569522600@peritiverona.com
SUMMARY:Incontro su Efficienza Energetica nell'industria
DESCRIPTION:Solo gli iscritti all’ordine di Verona possono iscriversi. \nSE SEI UN ISCRITTO\, clicca sul punsante accedi per prenotare l’evento. \nSE NON SEI UN ISCRITTO clicca qui per preiscriverti. \n\n26_09_2019_cciaa
URL:https://peritiverona.com/evento/incontro-su-efficienza-energetica-nellindustria/
LOCATION:Comune di Sommacampagna\, Piazza Carlo Alberto 1\, Sommacampagna\, Verona\, 37066
CATEGORIES:Eventi formazione continua
ATTACH;FMTTYPE=image/jpeg:https://peritiverona.com/wp-content/uploads/2019/09/26_09_2019_cciaa-pdf-image.jpg
ORGANIZER;CN="Ordine dei Periti Industriali e Periti Industriali Laureati della Provincia di Verona":MAILTO:segreteria@peritiverona.it
END:VEVENT
BEGIN:VEVENT
DTSTART;TZID=Europe/Rome:20190925T143000
DTEND;TZID=Europe/Rome:20190925T173000
DTSTAMP:20260421T014819
CREATED:20190924T074040Z
LAST-MODIFIED:20190925T105425Z
UID:1553-1569421800-1569432600@peritiverona.com
SUMMARY:Corso: La misura dei dati e l'analisi diagnostica indispensabili per incrementare l'efficienza degli impianti fotovoltaici esistenti
DESCRIPTION:Il programma è disponibile al seguente link: \nlocandina_sunreport_academy_1_2_giorno \n 
URL:https://peritiverona.com/evento/corso-la-misura-dei-dati-e-lanalisi-diagnostica-indispensabili-per-incrementare-lefficienza-degli-impianti-fotovoltaici-esistenti-2/
LOCATION:Hotel Caesius\, Via Peschiera\, 3\, Bardolino\, 37011\, Italia
CATEGORIES:Eventi formazione continua
ATTACH;FMTTYPE=image/jpeg:https://peritiverona.com/wp-content/uploads/2019/09/locandina_sunreport_academy_1_2_giorno-2-pdf-image.jpg
END:VEVENT
BEGIN:VEVENT
DTSTART;TZID=Europe/Rome:20190924T090000
DTEND;TZID=Europe/Rome:20190924T130000
DTSTAMP:20260421T014819
CREATED:20190924T073643Z
LAST-MODIFIED:20190924T074231Z
UID:1548-1569315600-1569330000@peritiverona.com
SUMMARY:Corso: La misura dei dati e l'analisi diagnostica indispensabili per incrementare l'efficienza degli impianti fotovoltaici esistenti
DESCRIPTION:Il programma è disponibile al seguente link: \nlocandina_sunreport_academy_1_2_giorno
URL:https://peritiverona.com/evento/corso-la-misura-dei-dati-e-lanalisi-diagnostica-indispensabili-per-incrementare-lefficienza-degli-impianti-fotovoltaici-esistenti/
LOCATION:Hotel Caesius\, Via Peschiera\, 3\, Bardolino\, 37011\, Italia
CATEGORIES:Eventi formazione continua
END:VEVENT
BEGIN:VEVENT
DTSTART;TZID=Europe/Rome:20190619T093000
DTEND;TZID=Europe/Rome:20190619T180000
DTSTAMP:20260421T014819
CREATED:20190605T084354Z
LAST-MODIFIED:20190814T081531Z
UID:461-1560936600-1560967200@peritiverona.com
SUMMARY:Giornata Nazionale della Termografia
DESCRIPTION:AITI DMC – Associazione Italiana Termografia Infrarosso presenta la: \n“Giornata Nazionale della Termografia”\n“Termografia tra passato\, presente e futuro: stato dellʼarte\, principali settori di applicazione\, tendenze future proiettate verso efficienza e ambiente.” \ngiornata_termografia_19_06_2019_1
URL:https://peritiverona.com/evento/giornata-nazionale-della-termografia/
LOCATION:Azienda Agricola “Roccolo del Lago”\, Località Saline\, 9\, Lazise\, Verona\, 37017
CATEGORIES:Eventi formazione continua
ATTACH;FMTTYPE=image/jpeg:https://peritiverona.com/wp-content/uploads/2019/06/termografia-1.jpg
ORGANIZER;CN="Ordine dei Periti Industriali e Periti Industriali Laureati della Provincia di Verona":MAILTO:segreteria@peritiverona.it
END:VEVENT
BEGIN:VEVENT
DTSTART;TZID=Europe/Rome:20190612T140000
DTEND;TZID=Europe/Rome:20190612T180000
DTSTAMP:20260421T014819
CREATED:20190605T085922Z
LAST-MODIFIED:20190814T081631Z
UID:473-1560348000-1560362400@peritiverona.com
SUMMARY:Perché costruire e ristrutturare con la canapa e la calce
DESCRIPTION:Efficientamento energetico degli edifici in modo sostenibile dal punto di vista economico\, sociale e ambientale\nPROGRAMMA\n• Cannabis Sativa\, breve storia di 10.000 anni\n• Confort abitativo e benessere\n• Muri che respirano???\n• Impronta di C02 negativa e economia circolare\n• La ricerca scientifica\n• Le qualità igro-termiche\n• Panoramica cantieri: nuova costruzione\, restauro e design\n• I microrganismi simbiotici\n• Dibattito e domande \n12_06_2019_canapa_e_calce
URL:https://peritiverona.com/evento/perche-costruire-e-ristrutturare-con-la-canapa-e-la-calce/
LOCATION:Ordine degli Architetti\, Via Santa Teresa\, 2\, Verona\, Verona
CATEGORIES:Eventi formazione continua
ATTACH;FMTTYPE=image/jpeg:https://peritiverona.com/wp-content/uploads/2019/06/canapa-calce-1.jpg
ORGANIZER;CN="Ordine dei Periti Industriali e Periti Industriali Laureati della Provincia di Verona":MAILTO:segreteria@peritiverona.it
END:VEVENT
BEGIN:VEVENT
DTSTART;TZID=Europe/Rome:20190611T143000
DTEND;TZID=Europe/Rome:20190611T183000
DTSTAMP:20260421T014819
CREATED:20190814T091946Z
LAST-MODIFIED:20190814T091946Z
UID:1270-1560263400-1560277800@peritiverona.com
SUMMARY:La sicurezza degli impianti a gas
DESCRIPTION:L’evento rappresenta un importante momento di incontro-confronto sull’applicazione degli aspetti normativi e la risoluzione delle problematiche tecniche inerenti al settore gas. \nGli obiettivi attesi sono: \n1) Rendere partecipi tutti gli operatori del settore gas degli aggiornamenti normativi e tecnici. \n2) Evidenziare alcuni punti salienti della normativa vigente. \n3) Presentare le esperienze e le applicazioni industriali concretamente maturate in tema di impianti e sicurezza gas. \n4) Sensibilizzare l’attenzione di progettisti\, tecnici e installatori sulle novità del settore gas. \n5) Focalizzare le responsabilità degli operatori del settore \n11_06_2019_la_sicurezza_impianti_a_gas
URL:https://peritiverona.com/evento/la-sicurezza-degli-impianti-a-gas/
LOCATION:Istituto Salesiano San Zeno\, Via Don Minzoni 50\, Verona\, 37138
CATEGORIES:Eventi formazione continua
ATTACH;FMTTYPE=image/jpeg:https://peritiverona.com/wp-content/uploads/2019/08/0001-1.jpg
END:VEVENT
BEGIN:VEVENT
DTSTART;TZID=Europe/Rome:20190531T140000
DTEND;TZID=Europe/Rome:20190531T183000
DTSTAMP:20260421T014819
CREATED:20190605T084822Z
LAST-MODIFIED:20190814T081907Z
UID:466-1559311200-1559327400@peritiverona.com
SUMMARY:Impianti radianti ad alta efficienza
DESCRIPTION:Obiettivi formativi\nIl crescente interesse nel campo dei sistemi radianti sta portando un notevole aumento del numero di applicazioni impiantistiche di questo tipo. Nel panorama delle soluzioni tecniche disponibili\, gli impianti cosiddetti “ad alta efficienza” rappresentano una delle innovazioni più interessanti dal punto di vista dell’efficienza energetica in quanto permettono di abbattere i costi di gestione e di massimizzare il comfort ambientale. La possibilità di ridurre le temperature di funzionamento permette di aumentare le rese dei sistemi di produzione. L’impiego efficace delle fonti energetiche alternative passa obbligatoriamente per la bassa temperatura. Gli impianti ad alta efficienza permettono di sfruttare la temperatura più bassa possibile. L’intervento si svilupperà analizzando le peculiarità degli impianti ad alta efficienza\, toccando tutti gli aspetti tecnici che permettono di prevedere\, progettare e realizzare un impianto di questo tipo.
URL:https://peritiverona.com/evento/impianti-radianti-ad-alta-efficienza/
LOCATION:Ordine Ingegneri\, Via Santa Teresa\, 12\, Verona\, Verona
CATEGORIES:Eventi formazione continua
ATTACH;FMTTYPE=image/jpeg:https://peritiverona.com/wp-content/uploads/2019/06/impianti-radianti.jpg
ORGANIZER;CN="Ordine dei Periti Industriali e Periti Industriali Laureati della Provincia di Verona":MAILTO:segreteria@peritiverona.it
END:VEVENT
BEGIN:VEVENT
DTSTART;TZID=Europe/Rome:20190530T090000
DTEND;TZID=Europe/Rome:20190530T180000
DTSTAMP:20260421T014819
CREATED:20190605T085734Z
LAST-MODIFIED:20190814T092426Z
UID:471-1559206800-1559239200@peritiverona.com
SUMMARY:Progetto Bagno
DESCRIPTION:INNOVAZIONE\, FUNZIONALITÀ E TRASFORMAZIONE\nL’evento è in fase di accreditamento presso il Consiglio Nazionale degli Architetti P.P.C. (C.N.A.P.P.C.) per n. 6 Crediti Formativi Professionali (CFP) a valere per il triennio 2017/2019. A tutti i geometri partecipanti saranno riconosciuti n. 6 Crediti Formativi Professionali (CFP) dal Consiglio Nazionale dei Geometri e Geometri Laureati (C.N.GeG.L.) \nCE0062493 Action Group S.r.l. 20190530 A \nL’evento è in fase di accreditamento presso il Consiglio Nazionale degli Ingegneri (C.N.I.) per n. 6 Crediti Formativi Professionali (CFP) L’evento è in fase di accreditamento presso il Consiglio Nazionale dei Periti Industriali e dei Periti Industriali Laureati (C.N.P.I.) per n. 6 Crediti Formativi Professionali (CFP) \n30_05_2019_action_group_1
URL:https://peritiverona.com/evento/progetto-bagno/
LOCATION:Hotel San Marco\, Via Longhena 42\, Verona
CATEGORIES:Eventi formazione continua
ATTACH;FMTTYPE=image/jpeg:https://peritiverona.com/wp-content/uploads/2019/06/action-group.jpg
ORGANIZER;CN="ACTION GROUP S.r.l.":MAILTO:convegni@actiongroupeditore.com
END:VEVENT
BEGIN:VEVENT
DTSTART;TZID=Europe/Rome:20190508T090000
DTEND;TZID=Europe/Rome:20190508T130000
DTSTAMP:20260421T014819
CREATED:20190603T192923Z
LAST-MODIFIED:20190814T082226Z
UID:294-1557306000-1557320400@peritiverona.com
SUMMARY:Protezione degli impianti tecnologici dalle sovratensioni elettriche e dagli incendi
DESCRIPTION:Incontro formativo in collaborazione con OBO BETTERMANN\n\nIl crescente utilizzo di apparecchiature elettroniche e di domotica all’interno degli impianti elettrici in ambito civile\, terziario ed industriale ha fatto assumere rilevanza sempre maggiore al fenomeno delle sovratensioni poiché esse costituiscono la prima causa di danno di tali dispositivi e di innesco di incendio.In caso di incendio è importante evitare la propagazione delle fiamme negli ambienti attigui\, per la salvaguardia delle persone e delle cose.L’incontro si propone di analizzare le innovazioni normative (nuova CEI 64/8 Variante 5) e tecnologiche che consentono di attuare una correttascelta ed installazione dei limitatori di sovratensione (SPD)\, e di approfondire le disposizioni tecniche per una adeguata realizzazione di sigillature e ripristini dellacompartimentazione REI degli ambienti. Inoltre verranno presentati i criteri che stanno alla base del mantenimento funzionale degli impianti elettrici in caso di incendio e di evento sismico.\n08_05_2019_obo_bettermann
URL:https://peritiverona.com/evento/protezione-degli-impianti-tecnologici-dalle-sovratensioni-elettriche-e-dagli-incendi/
LOCATION:Ordine dei Periti Industriali e Periti Industriali Laureati  della Provincia di Verona\, via Monte Comun 27\, San Giovanni Lupatoto\, 37057
CATEGORIES:Eventi formazione continua
ORGANIZER;CN="Ordine dei Periti Industriali e Periti Industriali Laureati della Provincia di Verona":MAILTO:segreteria@peritiverona.it
END:VEVENT
BEGIN:VEVENT
DTSTART;TZID=Europe/Rome:20190418T093000
DTEND;TZID=Europe/Rome:20190418T143000
DTSTAMP:20260421T014819
CREATED:20190605T083814Z
LAST-MODIFIED:20190814T082450Z
UID:456-1555579800-1555597800@peritiverona.com
SUMMARY:LA PROGETTAZIONE DELL’IMPIANTO HVAC
DESCRIPTION:DAL CONCEPT AL COMMISSIONING: COME GARANTIRE IL RISULTATO FINALE. \nincontro_tecnico_18_04_2019
URL:https://peritiverona.com/evento/la-proget-tazione-dellimpianto-hvac/
LOCATION:Corte Valier\, Via della Pergolana\, 9\, Lazise\, Verona\, 37017
CATEGORIES:Eventi formazione continua
ATTACH;FMTTYPE=image/jpeg:https://peritiverona.com/wp-content/uploads/2019/06/incontro-tecnico-1.jpg
ORGANIZER;CN="Ordine dei Periti Industriali e Periti Industriali Laureati della Provincia di Verona":MAILTO:segreteria@peritiverona.it
END:VEVENT
BEGIN:VEVENT
DTSTART;TZID=Europe/Rome:20190416T160000
DTEND;TZID=Europe/Rome:20190416T180000
DTSTAMP:20260421T014819
CREATED:20190814T093151Z
LAST-MODIFIED:20190814T095011Z
UID:1280-1555430400-1555437600@peritiverona.com
SUMMARY:Pensione questa sconosciuta
DESCRIPTION:Seminario PENSIONE QUESTA SCONOSCIUTA……POSSO PIANIFICARE LA MIA PENSIONE?\nevento in collaborazione con l’Ordinedei Periti Industriali e dei Periti Industriali Laureati della Provincia di Verona \nlocandina_pensioni_16_04_2019
URL:https://peritiverona.com/evento/pensione-questa-sconosciuta/
LOCATION:Ordine dei Periti Industriali e Periti Industriali Laureati  della Provincia di Verona\, via Monte Comun 27\, San Giovanni Lupatoto\, 37057
CATEGORIES:Eventi formazione continua
ATTACH;FMTTYPE=image/jpeg:https://peritiverona.com/wp-content/uploads/2019/08/locandina_pensioni_16_04_2019_page-0001.jpg
ORGANIZER;CN="Ordine dei Periti Industriali e Periti Industriali Laureati della Provincia di Verona":MAILTO:segreteria@peritiverona.it
END:VEVENT
BEGIN:VEVENT
DTSTART;TZID=Europe/Rome:20190411T090000
DTEND;TZID=Europe/Rome:20190411T130000
DTSTAMP:20260421T014819
CREATED:20190605T083439Z
LAST-MODIFIED:20190814T083403Z
UID:454-1554973200-1554987600@peritiverona.com
SUMMARY:LA PROGETTAZIONE ILLUMINOTECNICA E L'ILLUMINAZIONE DI SICUREZZA
DESCRIPTION:locandina_disano_11_04_2019
URL:https://peritiverona.com/evento/la-progettazione-illuminotecnica-e-lilluminazione-di-sicurezza/
LOCATION:Ordine dei Periti Industriali e Periti Industriali Laureati  della Provincia di Verona\, via Monte Comun 27\, San Giovanni Lupatoto\, 37057
CATEGORIES:Eventi formazione continua
ORGANIZER;CN="Cosmo Formazione":MAILTO:info@cosmoformazione.it
END:VEVENT
BEGIN:VEVENT
DTSTART;TZID=Europe/Rome:20190410T090000
DTEND;TZID=Europe/Rome:20190410T130000
DTSTAMP:20260421T014819
CREATED:20190605T081739Z
LAST-MODIFIED:20190814T083547Z
UID:449-1554886800-1554901200@peritiverona.com
SUMMARY:IMPIANTI DISTRIBUZIONE CARBURANTE
DESCRIPTION:DURANTE SARÀ ANALIZZATO IL D.M. 22 NOVEMBRE 2017 CHE REGOLAMENTA L’INSTALLAZIONE E L’ESERCIZIO DI CONTENITORI-DISTRIBUTORI\, A USO PRIVATO\, PER L’EROGAZIONE DI CARBURANTE LIQUIDO DI CATEGORIA C. VERRÀ ANALIZZATA LA “GUIDA TECNICA IMPIANTI E STAZIONI GNL E GNC PER AUTOTRAZIONE” E NELLA SECONDA PARTE I PROCEDIMENTI PER LE ATTIVITÀ A RISCHIO DI INCIDENTE RILEVANTE E I PROCEDIMENTI DI CUI AL D.LGS 105/2015. IL NUMERO MASSIMO DI PARTECIPANTI È DI 60 PERSONE. \nlocandina_impianti_carburante_10_04_2019
URL:https://peritiverona.com/evento/impianti-distribuzione-carburante/
LOCATION:Ordine dei Periti Industriali e Periti Industriali Laureati  della Provincia di Verona\, via Monte Comun 27\, San Giovanni Lupatoto\, 37057
CATEGORIES:Eventi formazione continua
ATTACH;FMTTYPE=image/jpeg:https://peritiverona.com/wp-content/uploads/2019/06/impianti-carburante.jpg
ORGANIZER;CN="Cosmo Formazione":MAILTO:info@cosmoformazione.it
END:VEVENT
BEGIN:VEVENT
DTSTART;TZID=Europe/Rome:20190403T090000
DTEND;TZID=Europe/Rome:20190403T180000
DTSTAMP:20260421T014819
CREATED:20190605T083300Z
LAST-MODIFIED:20190814T083658Z
UID:452-1554282000-1554314400@peritiverona.com
SUMMARY:IL FUTURO E-MOBILITY
DESCRIPTION:ALIMENTAZIONE DEI VEICOLI ELETTRICI SECONDO LA NORMA CEI 64-8 SEZIONE 722 \nlocandina_e_mobility_03_04_2019
URL:https://peritiverona.com/evento/il-futuro-e-mobility/
LOCATION:Ordine dei Periti Industriali e Periti Industriali Laureati  della Provincia di Verona\, via Monte Comun 27\, San Giovanni Lupatoto\, 37057
CATEGORIES:Eventi formazione continua
ATTACH;FMTTYPE=image/jpeg:https://peritiverona.com/wp-content/uploads/2019/06/e-mobility.jpg
ORGANIZER;CN="Cosmo Formazione":MAILTO:info@cosmoformazione.it
END:VEVENT
BEGIN:VEVENT
DTSTART;TZID=Europe/Rome:20190328T140000
DTEND;TZID=Europe/Rome:20190328T180000
DTSTAMP:20260421T014819
CREATED:20190814T093712Z
LAST-MODIFIED:20190814T094833Z
UID:1283-1553781600-1553796000@peritiverona.com
SUMMARY:EN 15232: EFFICIENZA ENERGETICA E AUTOMAZIONE RESIDENZIALE
DESCRIPTION:Nuove modalità impiantistiche per un risparmio energetico e un totale benessere termoigrometrico\nIl Seminario ha come finalità l’aggiornamento delle competenze professionali mediante approfondimenti tecnici sulla legislazione\, sulla progettazione e sulla gestione degli impianti di Home & Building Automation\, alla luce dei nuovi obblighi normativi per l’efficienza energetica. \n28_marzo_2019_fantini_cosmi_s_p_a_
URL:https://peritiverona.com/evento/en-15232-efficienza-energetica-e-automazione-residenziale/
LOCATION:Ordine dei Periti Industriali e Periti Industriali Laureati  della Provincia di Verona\, via Monte Comun 27\, San Giovanni Lupatoto\, 37057
CATEGORIES:Eventi formazione continua
ATTACH;FMTTYPE=image/jpeg:https://peritiverona.com/wp-content/uploads/2019/08/28_marzo_2019_fantini_cosmi_s_p_a__page-0001.jpg
ORGANIZER;CN="Ordine dei Periti Industriali e Periti Industriali Laureati della Provincia di Verona":MAILTO:segreteria@peritiverona.it
END:VEVENT
BEGIN:VEVENT
DTSTART;TZID=Europe/Rome:20190327T090000
DTEND;TZID=Europe/Rome:20190327T130000
DTSTAMP:20260421T014819
CREATED:20190814T094723Z
LAST-MODIFIED:20190814T094723Z
UID:1286-1553677200-1553691600@peritiverona.com
SUMMARY:Regola tecnica di prevenzione attività commerciali
DESCRIPTION:Durante questo corso verrà illustrata ai corsisti la regola tecnica verticale relativa alle attività commerciali\, inserendo all’interno della lezione di aggiornamento esempi pratici applicativi.\nVerranno analizzate le strategie per la messa in sicurezza delle persone\, le compartimentazioni e le corrette reazioni al fuoco. \nlocandina_rtv_attivit___commerciali_27_03_2019
URL:https://peritiverona.com/evento/regola-tecnica-di-prevenzione-attivita-commerciali/
LOCATION:Ordine dei Periti Industriali e Periti Industriali Laureati  della Provincia di Verona\, via Monte Comun 27\, San Giovanni Lupatoto\, 37057
CATEGORIES:Eventi formazione continua
ATTACH;FMTTYPE=image/jpeg:https://peritiverona.com/wp-content/uploads/2019/08/locandina_rtv_attivit___commerciali_27_03_2019-1_page-0001.jpg
ORGANIZER;CN="Cosmo Formazione":MAILTO:info@cosmoformazione.it
END:VEVENT
BEGIN:VEVENT
DTSTART;TZID=Europe/Rome:20190322T093000
DTEND;TZID=Europe/Rome:20190322T123000
DTSTAMP:20260421T014819
CREATED:20190814T095704Z
LAST-MODIFIED:20190814T095704Z
UID:1294-1553247000-1553257800@peritiverona.com
SUMMARY:LA CESSIONE DEI CREDITI DERIVANTI DAGLI INTERVENTI DI RIQUALIFICAZIONE ENERGETICA E MIGLIORAMENTO SISMICO SU EDIFICI CONDOMINIALI: I VANTAGGI PER CONDOMINI E IMPRESE
DESCRIPTION:ance_convegno_cessione_crediti_22_03_2019
URL:https://peritiverona.com/evento/la-cessione-dei-crediti-derivanti-dagli-interventi-di-riqualificazione-energetica-e-miglioramento-sismico-su-edifici-condominiali-i-vantaggi-per-condomini-e-imprese/
LOCATION:Sala Convegni Associazione M15\, via Santa Teresa 2\, Verona
CATEGORIES:Eventi formazione continua
ATTACH;FMTTYPE=image/jpeg:https://peritiverona.com/wp-content/uploads/2019/08/ance_convegno_cessione_crediti_22_03_2019_page-0001.jpg
ORGANIZER;CN="Ance Verona":MAILTO:info@costruireinqualita.it
END:VEVENT
BEGIN:VEVENT
DTSTART;TZID=Europe/Rome:20190320T133000
DTEND;TZID=Europe/Rome:20190320T183000
DTSTAMP:20260421T014819
CREATED:20190814T100457Z
LAST-MODIFIED:20190814T100457Z
UID:1300-1553088600-1553106600@peritiverona.com
SUMMARY:Trovare nuove rotte: soluzioni\, diagnosi ed esempi
DESCRIPTION:20_03_2019_convegno_cq_ance_vi_1
URL:https://peritiverona.com/evento/trovare-nuove-rotte-soluzioni-diagnosi-ed-esempi/
LOCATION:Area Margraf\, Logistics Hub Via Torri di Confine\, Gambellara\, Vicenza
CATEGORIES:Eventi formazione continua
ATTACH;FMTTYPE=image/jpeg:https://peritiverona.com/wp-content/uploads/2019/08/20_03_2019_convegno_cq_ance_vi_1-1_page-0001.jpg
ORGANIZER;CN="Ance Verona":MAILTO:info@costruireinqualita.it
END:VEVENT
BEGIN:VEVENT
DTSTART;TZID=Europe/Rome:20190319T090000
DTEND;TZID=Europe/Rome:20190319T133000
DTSTAMP:20260421T014819
CREATED:20190814T100928Z
LAST-MODIFIED:20190814T100928Z
UID:1305-1552986000-1553002200@peritiverona.com
SUMMARY:Progettazione sostenibile
DESCRIPTION:19_03_2019_action_group
URL:https://peritiverona.com/evento/progettazione-sostenibile/
LOCATION:Hotel San Marco\, Via Longhena 42\, Verona
CATEGORIES:Eventi formazione continua
ATTACH;FMTTYPE=image/jpeg:https://peritiverona.com/wp-content/uploads/2019/08/19_03_2019_action_group_page-0001.jpg
ORGANIZER;CN="ACTION GROUP S.r.l.":MAILTO:convegni@actiongroupeditore.com
END:VEVENT
BEGIN:VEVENT
DTSTART;TZID=Europe/Rome:20190319T090000
DTEND;TZID=Europe/Rome:20190319T130000
DTSTAMP:20260421T014819
CREATED:20190814T101321Z
LAST-MODIFIED:20190814T101321Z
UID:1309-1552986000-1553000400@peritiverona.com
SUMMARY:Aspetti tecnici e normativi dei sistemi di illuminazione di emergenza
DESCRIPTION:19_03_2019_eaton_1
URL:https://peritiverona.com/evento/aspetti-tecnici-e-normativi-dei-sistemi-di-illuminazione-di-emergenza/
LOCATION:Ordine dei Periti Industriali e Periti Industriali Laureati  della Provincia di Verona\, via Monte Comun 27\, San Giovanni Lupatoto\, 37057
CATEGORIES:Eventi formazione continua
ATTACH;FMTTYPE=image/jpeg:https://peritiverona.com/wp-content/uploads/2019/08/19_03_2019_eaton_1_page-0001.jpg
ORGANIZER;CN="Ordine dei Periti Industriali e Periti Industriali Laureati della Provincia di Verona":MAILTO:segreteria@peritiverona.it
END:VEVENT
BEGIN:VEVENT
DTSTART;TZID=Europe/Rome:20190313T090000
DTEND;TZID=Europe/Rome:20190313T130000
DTSTAMP:20260421T014819
CREATED:20190814T103531Z
LAST-MODIFIED:20190814T103531Z
UID:1313-1552467600-1552482000@peritiverona.com
SUMMARY:Corso prevenzione incendi Pubbliche Manifestazioni
DESCRIPTION:Durante questo corso (durata 4 ore – 2 moduli da 2 h) verrà illustrata la disciplina vigente in materia di prevenzione incendi in merito alle pubbliche manifestazioni e dai locali di pubblico spettacolo. \nVerranno svolte delle analisi e delle valutazioni per la “Safety” e “Security”\, infine il docente mostrerà degli esempi applicativi al fine di migliorare la comprensione delle metodologie di approccio per una corretta prevenzione in tali situazioni. \nlocandina_pubbliche_manifestazioni_13_03_2019
URL:https://peritiverona.com/evento/corso-prevenzione-incendi-pubbliche-manifestazioni/
LOCATION:Ordine dei Periti Industriali e Periti Industriali Laureati  della Provincia di Verona\, via Monte Comun 27\, San Giovanni Lupatoto\, 37057
CATEGORIES:Eventi formazione continua
ATTACH;FMTTYPE=image/jpeg:https://peritiverona.com/wp-content/uploads/2019/08/locandina_pubbliche_manifestazioni_13_03_2019-1_page-0001.jpg
ORGANIZER;CN="Cosmo Formazione":MAILTO:info@cosmoformazione.it
END:VEVENT
BEGIN:VEVENT
DTSTART;TZID=Europe/Rome:20190215T090000
DTEND;TZID=Europe/Rome:20190215T180000
DTSTAMP:20260421T014819
CREATED:20190814T103929Z
LAST-MODIFIED:20190814T103929Z
UID:1317-1550221200-1550253600@peritiverona.com
SUMMARY:Idraulica e circuiti idraulici
DESCRIPTION:locandina_idraulica_e_circuiti_idraulici_verona_15_02_2019
URL:https://peritiverona.com/evento/idraulica-e-circuiti-idraulici/
LOCATION:Ordine dei Periti Industriali e Periti Industriali Laureati  della Provincia di Verona\, via Monte Comun 27\, San Giovanni Lupatoto\, 37057
CATEGORIES:Eventi formazione continua
ATTACH;FMTTYPE=image/jpeg:https://peritiverona.com/wp-content/uploads/2019/08/locandina_idraulica_e_circuiti_idraulici_verona_15_02_2019-1_page-0001.jpg
ORGANIZER;CN="Cosmo Formazione":MAILTO:info@cosmoformazione.it
END:VEVENT
BEGIN:VEVENT
DTSTART;TZID=Europe/Rome:20190206T090000
DTEND;TZID=Europe/Rome:20190206T130000
DTSTAMP:20260421T014819
CREATED:20190814T104405Z
LAST-MODIFIED:20190814T104405Z
UID:1321-1549443600-1549458000@peritiverona.com
SUMMARY:DETRAZIONI FISCALI E CONTO TERMICO
DESCRIPTION:La legge di Bilancio 2018 (Nr. 205 del 27/12/2017) ha integrato ed in parte modificato le condizioni di accesso ai benefici fiscali per l’efficienza energetica degli edifici (in relazione alle spese sostenute dal 1° gennaio al 31 dicembre 2018); per la riqualificazione energetica degli edifici è prevista una detrazione fiscale fino al 65% per gli importi a carico del contribuente\, che verranno ripartiti in 10 quote annuali. \nLe detrazioni al 65% possono essere applicate su:- Caldaie a condensazione con efficienza pari alla classe A di prodotto prevista dal Regolamento delegato (UE) 811/2013 e contestuale installazione di sistemi di termoregolazione evoluti\, appartenenti alle classi V\, VI oppure VIII della Comunicazione della Commissione 2014/C 207/02- Generatori Ibridi costituiti da una pompa di calore integrata con caldaia a condensazione\, assemblati in fabbrica ed espressamente concepiti dal fabbricante per funzionare in abbinamento tra loro- Pompe di Calore e Pannelli Solari \nInoltre\, anche nel 2018 è disponibile il Conto Termico\, strumento incentivante mirato a promuovere due differenti categorie di interventi\, sia per il privato sia per la Pubblica Amministrazione: l’incremento dell’efficienza energetica e la produzione di energia termica da fonti rinnovabili. \ninvito_detrazioni_fiscali_6_02_2019___3_crediti
URL:https://peritiverona.com/evento/detrazioni-fiscali-e-conto-termico/
LOCATION:Ordine dei Periti Industriali e Periti Industriali Laureati  della Provincia di Verona\, via Monte Comun 27\, San Giovanni Lupatoto\, 37057
CATEGORIES:Eventi formazione continua
ATTACH;FMTTYPE=image/jpeg:https://peritiverona.com/wp-content/uploads/2019/08/invito_detrazioni_fiscali_6_02_2019___3_crediti_page-0001.jpg
ORGANIZER;CN="Ordine dei Periti Industriali e Periti Industriali Laureati della Provincia di Verona":MAILTO:segreteria@peritiverona.it
END:VEVENT
END:VCALENDAR