BEGIN:VCALENDAR
VERSION:2.0
PRODID:-//Ordine dei Periti Industriali e Periti Industriali Laureati  della Provincia di Verona - ECPv6.6.2//NONSGML v1.0//EN
CALSCALE:GREGORIAN
METHOD:PUBLISH
X-ORIGINAL-URL:https://peritiverona.com
X-WR-CALDESC:Eventi per Ordine dei Periti Industriali e Periti Industriali Laureati  della Provincia di Verona
REFRESH-INTERVAL;VALUE=DURATION:PT1H
X-Robots-Tag:noindex
X-PUBLISHED-TTL:PT1H
BEGIN:VTIMEZONE
TZID:Europe/Rome
BEGIN:DAYLIGHT
TZOFFSETFROM:+0100
TZOFFSETTO:+0200
TZNAME:CEST
DTSTART:20200329T010000
END:DAYLIGHT
BEGIN:STANDARD
TZOFFSETFROM:+0200
TZOFFSETTO:+0100
TZNAME:CET
DTSTART:20201025T010000
END:STANDARD
END:VTIMEZONE
BEGIN:VEVENT
DTSTART;TZID=Europe/Rome:20201118T150000
DTEND;TZID=Europe/Rome:20201118T183000
DTSTAMP:20260420T075856
CREATED:20201103T071208Z
LAST-MODIFIED:20201109T105149Z
UID:3760-1605711600-1605724200@peritiverona.com
SUMMARY:Seminario: Protezione contro le scariche atmosferiche e le sovratensioni
DESCRIPTION:Scarica il programma dal link sottostante \nlocandina Per. Ind. di Verona_18112020 \n  \n  \n  \n\n        \n            Allegati\n        locandina 19 novembre 2020 (564 kB)
URL:https://peritiverona.com/evento/seminario-protezione-contro-le-scariche-atmosferiche-e-le-sovratensioni/
CATEGORIES:Eventi formazione continua
ATTACH;FMTTYPE=image/jpeg:https://peritiverona.com/wp-content/uploads/2020/10/locandina-Per-Ind-di-Verona_181120-pdf-image.jpg
END:VEVENT
BEGIN:VEVENT
DTSTART;TZID=Europe/Rome:20201109T153000
DTEND;TZID=Europe/Rome:20201109T180000
DTSTAMP:20260420T075856
CREATED:20201104T082907Z
LAST-MODIFIED:20201104T082907Z
UID:4141-1604935800-1604944800@peritiverona.com
SUMMARY:Webnair Ristrutturare i balconi\, l'opportunità del bonus facciate
DESCRIPTION:Il programma del Webinair è disponibilie al link sottostante: \nwebinar 9 novembre 2020 \n\n        \n            Allegati\n        locandina 19 novembre 2020 (564 kB)
URL:https://peritiverona.com/evento/webnair-ristrutturare-i-balconi-lopportunita-del-bonus-facciate/
CATEGORIES:Eventi formazione continua
ATTACH;FMTTYPE=image/jpeg:https://peritiverona.com/wp-content/uploads/2020/11/webinar-9-novembre-2020-pdf-image.jpg
END:VEVENT
BEGIN:VEVENT
DTSTART;TZID=Europe/Rome:20201106T150000
DTEND;TZID=Europe/Rome:20201106T173000
DTSTAMP:20260420T075856
CREATED:20201029T084300Z
LAST-MODIFIED:20201029T084300Z
UID:4116-1604674800-1604683800@peritiverona.com
SUMMARY:Webinar Come cambia la prevenzione incendi
DESCRIPTION:All’interno della locandina potrete trovare le indicazioni di connessione per la partecipazione al Webinar        \n  \n\n        \n            Allegati\n        locandina 19 novembre 2020 (564 kB)
URL:https://peritiverona.com/evento/webinar-come-cambia-la-prevenzione-incendi/
CATEGORIES:Eventi formazione continua
ATTACH;FMTTYPE=image/jpeg:https://peritiverona.com/wp-content/uploads/2020/10/Convegno-CNPI-nazionale-Prevenzione-incendi-06-11-2020-pdf-image.jpg
END:VEVENT
BEGIN:VEVENT
DTSTART;TZID=Europe/Rome:20201104T094500
DTEND;TZID=Europe/Rome:20201104T120000
DTSTAMP:20260420T075856
CREATED:20201021T075212Z
LAST-MODIFIED:20201021T075212Z
UID:4049-1604483100-1604491200@peritiverona.com
SUMMARY:Visita formativa in cantiere in fase di realizzazione: Impianto radiante a Foglia RRI
DESCRIPTION:Puoi scaricare il programma dell’evento dal link sottostante: \nLocandina cantiere TT-VR \n\n        \n            Allegati\n        locandina 19 novembre 2020 (564 kB)
URL:https://peritiverona.com/evento/visita-formativa-in-cantiere-in-fase-di-realizzazione-impianto-radiante-a-foglia-rri/
CATEGORIES:Eventi formazione continua
ATTACH;FMTTYPE=image/jpeg:https://peritiverona.com/wp-content/uploads/2020/10/Locandina-cantiere-TT-VR-pdf-image.jpg
END:VEVENT
BEGIN:VEVENT
DTSTART;TZID=Europe/Rome:20201103T140000
DTEND;TZID=Europe/Rome:20201103T153000
DTSTAMP:20260420T075856
CREATED:20201020T071320Z
LAST-MODIFIED:20201020T071320Z
UID:4001-1604412000-1604417400@peritiverona.com
SUMMARY:L'impianto elettrico connesso
DESCRIPTION:Scarica la locandina da qui \n\n        \n            Allegati\n        locandina 19 novembre 2020 (564 kB)
URL:https://peritiverona.com/evento/limpianto-elettrico-connesso/
CATEGORIES:Eventi formazione continua
ATTACH;FMTTYPE=image/jpeg:https://peritiverona.com/wp-content/uploads/2020/10/03-11-2020-Vimar-S-p-a-pdf-image.jpg
END:VEVENT
BEGIN:VEVENT
DTSTART;TZID=Europe/Rome:20201030T143000
DTEND;TZID=Europe/Rome:20201030T173000
DTSTAMP:20260420T075856
CREATED:20201023T061521Z
LAST-MODIFIED:20201023T061521Z
UID:4076-1604068200-1604079000@peritiverona.com
SUMMARY:Webinair Efficienza\, sicurezza e gestione dei costi: l'analisi preventiva per la qualita' in edilizia
DESCRIPTION:Puoi scaricare il programma da qui: \nWebinar_30.10.2020 \nil link per l’iscrizione e’ il seguente: \nhttps://docs.google.com/forms/d/e/1FAIpQLSc7zzd8LV1e4sdpmdcKHw9eNdqu1SOukodT-ytm6AWZCD2FbQ/viewform \n\n        \n            Allegati\n        locandina 19 novembre 2020 (564 kB)
URL:https://peritiverona.com/evento/webinair-efficienza-sicurezza-e-gestione-dei-costi-lanalisi-preventiva-per-la-qualita-in-edilizia/
CATEGORIES:Eventi formazione continua
ATTACH;FMTTYPE=image/jpeg:https://peritiverona.com/wp-content/uploads/2020/10/Webinar_30-10-2020-pdf-image.jpg
ORGANIZER;CN="Ance Verona":MAILTO:info@costruireinqualita.it
END:VEVENT
BEGIN:VEVENT
DTSTART;TZID=Europe/Rome:20201022T090000
DTEND;TZID=Europe/Rome:20201022T130000
DTSTAMP:20260420T075856
CREATED:20201012T080724Z
LAST-MODIFIED:20201012T080724Z
UID:3904-1603357200-1603371600@peritiverona.com
SUMMARY:Circuiti idronici estesi e complessi: strategie di funzionamento\, bilanciamento e regolazione
DESCRIPTION:Puoi scaricare il programma da qui: \nWebinar Online Ordine Periti Verona \n\n        \n            Allegati\n        locandina 19 novembre 2020 (564 kB)
URL:https://peritiverona.com/evento/circuiti-idronici-estesi-e-complessi-strategie-di-funzionamento-bilanciamento-e-regolazione/
CATEGORIES:Eventi formazione continua
END:VEVENT
BEGIN:VEVENT
DTSTART;TZID=Europe/Rome:20201012T150000
DTEND;TZID=Europe/Rome:20201012T180000
DTSTAMP:20260420T075856
CREATED:20200922T082541Z
LAST-MODIFIED:20200923T063113Z
UID:3718-1602514800-1602525600@peritiverona.com
SUMMARY:Cogenerazione: l'innovazione per aumentare l'efficienza energetica e ridurre le emissioni
DESCRIPTION:Scarica il programma da qui \n\n        \n            Allegati\n        locandina 19 novembre 2020 (564 kB)
URL:https://peritiverona.com/evento/cogenerazione-linnovazione-per-aumentare-lefficienza-energetica-e-ridurre-le-emissioni/
CATEGORIES:Eventi formazione continua
ATTACH;FMTTYPE=image/jpeg:https://peritiverona.com/wp-content/uploads/2020/09/Webinair-12-ottobre-2020-1-pdf-image.jpg
END:VEVENT
BEGIN:VEVENT
DTSTART;TZID=Europe/Rome:20201008T093000
DTEND;TZID=Europe/Rome:20201008T130000
DTSTAMP:20260420T075856
CREATED:20200930T084418Z
LAST-MODIFIED:20200930T084418Z
UID:3836-1602149400-1602162000@peritiverona.com
SUMMARY:Detrazioni\, scomputi e opportunità per l'isolamento termico e acustico
DESCRIPTION:Scarica il programma da qui \n\n        \n            Allegati\n        locandina 19 novembre 2020 (564 kB)
URL:https://peritiverona.com/evento/detrazioni-scomputi-e-opportunita-per-lisolamento-termico-e-acustico/
CATEGORIES:Eventi formazione continua
ATTACH;FMTTYPE=image/jpeg:https://peritiverona.com/wp-content/uploads/2020/09/ANIT-Webinar-08-10-2020-2-pdf-image.jpg
END:VEVENT
BEGIN:VEVENT
DTSTART;VALUE=DATE:20200929
DTEND;VALUE=DATE:20200930
DTSTAMP:20260420T075856
CREATED:20200826T061426Z
LAST-MODIFIED:20200826T080734Z
UID:3705-1601337600-1601423999@peritiverona.com
SUMMARY:Corso CQ -Costruire in qualità-
DESCRIPTION:Maggiori informazioni all’interno del programma sottoindicato: \nCQ.VR.2020.online \n\n        \n            Allegati\n        locandina 19 novembre 2020 (564 kB)
URL:https://peritiverona.com/evento/corso-cq-costruire-in-qualita/
CATEGORIES:Eventi formazione continua
ATTACH;FMTTYPE=image/jpeg:https://peritiverona.com/wp-content/uploads/2020/08/CQ-VR_-2020-online-pdf-image.jpg
ORGANIZER;CN="Ance Verona":MAILTO:info@costruireinqualita.it
END:VEVENT
BEGIN:VEVENT
DTSTART;TZID=Europe/Rome:20200910T133000
DTEND;TZID=Europe/Rome:20200910T180000
DTSTAMP:20260420T075856
CREATED:20200902T071726Z
LAST-MODIFIED:20200902T085308Z
UID:3061-1599744600-1599760800@peritiverona.com
SUMMARY:Seminario: Italia antisismica- Incentivi al 110%-
DESCRIPTION:Scarica il programma dal link sottostante \nItalia antisismica 10.09.2020 \n\n        \n            Allegati\n        locandina 19 novembre 2020 (564 kB)
URL:https://peritiverona.com/evento/seminario-italia-antisismica-incentivi-al-110/
CATEGORIES:Eventi formazione continua
ATTACH;FMTTYPE=image/jpeg:https://peritiverona.com/wp-content/uploads/2020/09/Italia-antisismica-10-09-2020-pdf-image.jpg
END:VEVENT
BEGIN:VEVENT
DTSTART;TZID=Europe/Rome:20200903T170000
DTEND;TZID=Europe/Rome:20200903T190000
DTSTAMP:20260420T075856
CREATED:20200806T102048Z
LAST-MODIFIED:20200825T062549Z
UID:3687-1599152400-1599159600@peritiverona.com
SUMMARY:Webinair superbonus? solo con le supercase!
DESCRIPTION:Il programma è accessibile al link sottostante \n03.09.2020 Webinair Sperbonus solo con le supercase \n  \n\n        \n            Allegati\n        locandina 19 novembre 2020 (564 kB)
URL:https://peritiverona.com/evento/webinair-superbonus-solo-con-le-supercase/
CATEGORIES:Eventi formazione continua
ATTACH;FMTTYPE=image/jpeg:https://peritiverona.com/wp-content/uploads/2020/08/03-09-2020-Webinair-Sperbonus-solo-con-le-supercase-pdf-image.jpg
END:VEVENT
BEGIN:VEVENT
DTSTART;TZID=Europe/Rome:20200604T143000
DTEND;TZID=Europe/Rome:20200604T183000
DTSTAMP:20260420T075856
CREATED:20200528T062902Z
LAST-MODIFIED:20200529T093934Z
UID:3471-1591281000-1591295400@peritiverona.com
SUMMARY:Web conference- 110% Ecobonus e Sismabonus- Istruzioni per l'uso-
DESCRIPTION:Locandina 110 – 4 giugno 2020Ance Verona è lieta di invitarvi alla web conference “110% Ecobonus e Sismabonus – Istruzioni per l’uso”  \ndel 4 giugno p.v. ore 14.30 su piattaforma gotomeeting. \nAl seminario sono stati concessi 04 CFP. \nPer iscriversi cliccare sul link: https://attendee.gotowebinar.com/register/9189838438795074063 \n  \nLocandina 110 – 4 giugno 2020 \n\n        \n            Allegati\n        locandina 19 novembre 2020 (564 kB)
URL:https://peritiverona.com/evento/web-conference-110-ecobonus-e-sismabonus-istruzioni-per-luso/
CATEGORIES:Eventi formazione continua
ATTACH;FMTTYPE=image/jpeg:https://peritiverona.com/wp-content/uploads/2020/05/Locandina-110-4-giugno-2020-pdf-image.jpg
END:VEVENT
BEGIN:VEVENT
DTSTART;TZID=Europe/Rome:20200604T143000
DTEND;TZID=Europe/Rome:20200604T163000
DTSTAMP:20260420T075856
CREATED:20200529T085356Z
LAST-MODIFIED:20200529T085444Z
UID:3496-1591281000-1591288200@peritiverona.com
SUMMARY:Conosciamo l'elettromagnetismo e il 5G
DESCRIPTION:Modalità di registrazione dal seguente link https://register.gotowebinar.com/register/4298908352825265933 \n\n        \n            Allegati\n        locandina 19 novembre 2020 (564 kB)
URL:https://peritiverona.com/evento/conosciamo-lelettromagnetismo-e-il-5g/
CATEGORIES:Eventi formazione continua
ATTACH;FMTTYPE=image/jpeg:https://peritiverona.com/wp-content/uploads/2020/05/DEPLIANT-OPEN-2020_NUOVE-DATE_PER-WEB-pdf-image.jpg
END:VEVENT
BEGIN:VEVENT
DTSTART;TZID=Europe/Rome:20200527T140000
DTEND;TZID=Europe/Rome:20200527T170000
DTSTAMP:20260420T075856
CREATED:20200518T062640Z
LAST-MODIFIED:20200518T062640Z
UID:3418-1590588000-1590598800@peritiverona.com
SUMMARY:Incontro online: Sistemi Antincendio\, installazione e manutezione
DESCRIPTION:Incontro tecnico online Eaton S.r.l. \n27.05.2020 dalle ore 14\,00 alle ore 17\,00 \nPer partecipare registrarsi al link sulla locandina. \n  \n\n        \n            Allegati\n        locandina 19 novembre 2020 (564 kB)
URL:https://peritiverona.com/evento/incontro-online-sistemi-antincendio-installazione-e-manutezione/
CATEGORIES:Eventi formazione continua
ATTACH;FMTTYPE=image/jpeg:https://peritiverona.com/wp-content/uploads/2020/05/EATON-27-05-2020-pdf-image.jpg
END:VEVENT
BEGIN:VEVENT
DTSTART;TZID=Europe/Rome:20200520T140000
DTEND;TZID=Europe/Rome:20200520T170000
DTSTAMP:20260420T075857
CREATED:20200507T062848Z
LAST-MODIFIED:20200507T064935Z
UID:3365-1589983200-1589994000@peritiverona.com
SUMMARY:Incontro tecnico online "Sistemi antincendio\, la progettazione"
DESCRIPTION:Incontro tecnico online Eaton S.r.l. \n20.05.2020 dalle ore 14\,00 alle ore 17\,00 \nPer partecipare registrarsi al link sulla locandina. \n  \n  \n\n        \n            Allegati\n        locandina 19 novembre 2020 (564 kB)
URL:https://peritiverona.com/evento/incontro-tecnico-online-sistemi-antincendio-la-progettazione/
CATEGORIES:Eventi formazione continua
ATTACH;FMTTYPE=image/jpeg:https://peritiverona.com/wp-content/uploads/2020/05/EATON-20-05-2020-pdf-image.jpg
END:VEVENT
BEGIN:VEVENT
DTSTART;TZID=Europe/Rome:20200416T153000
DTEND;TZID=Europe/Rome:20200416T183000
DTSTAMP:20260420T075857
CREATED:20200415T070958Z
LAST-MODIFIED:20200415T070958Z
UID:3246-1587051000-1587061800@peritiverona.com
SUMMARY:WEBINAR GRATUITO: CELLE A COMBUSTIBILE: IDROGENO PER IL FUTURO DELLA PRODUZIONE ELETTRICA
DESCRIPTION:Programma Webinar \nIscrizioni https://www.h25.it/solidpower \nPER INFORMAZIONI:\ninfo@h25.it\n338 8580597 \n\n        \n            Allegati\n        locandina 19 novembre 2020 (564 kB)
URL:https://peritiverona.com/evento/webinar-gratuito-celle-a-combustibile-idrogeno-per-il-futuro-della-produzione-elettrica/
CATEGORIES:Eventi formazione continua
ATTACH;FMTTYPE=application/pdf:https://peritiverona.com/wp-content/uploads/2020/04/SeminarioVR_-peritiwebinar.pdf
END:VEVENT
BEGIN:VEVENT
DTSTART;TZID=Europe/Rome:20200408T090000
DTEND;TZID=Europe/Rome:20200408T090000
DTSTAMP:20260420T075857
CREATED:20200127T082458Z
LAST-MODIFIED:20200128T084111Z
UID:2816-1586336400-1586336400@peritiverona.com
SUMMARY:Corso CQ- Costruire in qualità- Edizione 2020-
DESCRIPTION:Programma dei Corsi: \nCQ 2020 – Programma \n\n        \n            Allegati\n        locandina 19 novembre 2020 (564 kB)
URL:https://peritiverona.com/evento/corso-cq-costruire-in-qualita-edizione-2020/
LOCATION:Esev\, Via Zeviani 8\, Verona\, Italia\, 37131
CATEGORIES:Eventi formazione continua
ATTACH;FMTTYPE=image/jpeg:https://peritiverona.com/wp-content/uploads/2020/01/CQ-2020-Programma-pdf-image.jpg
ORGANIZER;CN="Ance Verona":MAILTO:info@costruireinqualita.it
END:VEVENT
BEGIN:VEVENT
DTSTART;VALUE=DATE:20200318
DTEND;VALUE=DATE:20200319
DTSTAMP:20260420T075857
CREATED:20200303T074122Z
LAST-MODIFIED:20200305T115618Z
UID:3073-1584489600-1584575999@peritiverona.com
SUMMARY:Incontro per professionisti del settore sui sistemi antincendio
DESCRIPTION:  \nINCONTRO ANNULLATO vista attuale situazione di emergenza covid 19. \nSARA’ FISSATA UNA NUOVA DATA \n  \n\n        \n            Allegati\n        locandina 19 novembre 2020 (564 kB)
URL:https://peritiverona.com/evento/incontro-per-professionisti-del-settore-sui-sistemi-antincendio/
LOCATION:MARCHIOL S.P.A.\, Via Mezzacampagna 52\, VERONA\, 37135\, Italia
CATEGORIES:Eventi formazione continua
END:VEVENT
BEGIN:VEVENT
DTSTART;VALUE=DATE:20200312
DTEND;VALUE=DATE:20200313
DTSTAMP:20260420T075857
CREATED:20200226T073443Z
LAST-MODIFIED:20200306T073208Z
UID:2919-1583971200-1584057599@peritiverona.com
SUMMARY:Celle a combustibile: idrogeno per il futuro della produzione elettrica
DESCRIPTION:ANNULLATO E POSTICIPATO A DATA DA DESTINARSI \n  \n  \n  \n\n        \n            Allegati\n        locandina 19 novembre 2020 (564 kB)
URL:https://peritiverona.com/evento/celle-a-combustibile-idrogeno-per-il-futuro-della-produzione-elettrica/
LOCATION:Ordine Ingegneri\, Via Santa Teresa\, 12\, Verona\, Verona
CATEGORIES:Eventi formazione continua
END:VEVENT
BEGIN:VEVENT
DTSTART;TZID=Europe/Rome:20200225T090000
DTEND;TZID=Europe/Rome:20200225T090000
DTSTAMP:20260420T075857
CREATED:20200128T092031Z
LAST-MODIFIED:20200128T092031Z
UID:2844-1582621200-1582621200@peritiverona.com
SUMMARY:Corso Bim base ed intermedio
DESCRIPTION:Corso-BIM-base-e-intermedio-2 \n\n        \n            Allegati\n        locandina 19 novembre 2020 (564 kB)
URL:https://peritiverona.com/evento/corso-bim-base-ed-intermedio/
LOCATION:Esev\, Via Zeviani 8\, Verona\, Italia\, 37131
CATEGORIES:Eventi formazione continua
ATTACH;FMTTYPE=image/jpeg:https://peritiverona.com/wp-content/uploads/2020/01/Corso-BIM-base-e-intermedio-2-1-pdf-image.jpg
ORGANIZER;CN="Ance Verona":MAILTO:info@costruireinqualita.it
END:VEVENT
BEGIN:VEVENT
DTSTART;VALUE=DATE:20200221
DTEND;VALUE=DATE:20200222
DTSTAMP:20260420T075857
CREATED:20200207T114316Z
LAST-MODIFIED:20200207T114316Z
UID:2978-1582243200-1582329599@peritiverona.com
SUMMARY:Gestire il cambiamento: spunti teatrali per il cantiere
DESCRIPTION:Allegati\n        locandina 19 novembre 2020 (564 kB)
URL:https://peritiverona.com/evento/gestire-il-cambiamento-spunti-teatrali-per-il-cantiere/
LOCATION:FIERA DI VERONA\, VIALE DEL LAVORO 8\, VERONA\, 37135\, Italia
CATEGORIES:Eventi formazione continua
ATTACH;FMTTYPE=image/jpeg:https://peritiverona.com/wp-content/uploads/2020/02/ANCE-21-02-2020-Spunti-teatrali-per-il-cantiere-pdf-image.jpg
END:VEVENT
BEGIN:VEVENT
DTSTART;TZID=Europe/Rome:20200219T180000
DTEND;TZID=Europe/Rome:20200219T200000
DTSTAMP:20260420T075857
CREATED:20200213T083635Z
LAST-MODIFIED:20200213T083635Z
UID:3026-1582135200-1582142400@peritiverona.com
SUMMARY:Commissione Elettrotecnica
DESCRIPTION:Allegati\n        locandina 19 novembre 2020 (564 kB)
URL:https://peritiverona.com/evento/commissione-elettrotecnica-2/
LOCATION:Ordine dei Periti Industriali e Periti Industriali Laureati  della Provincia di Verona\, via Monte Comun 27\, San Giovanni Lupatoto\, 37057
CATEGORIES:Commissioni
END:VEVENT
BEGIN:VEVENT
DTSTART;TZID=Europe/Rome:20200219T140000
DTEND;TZID=Europe/Rome:20200221T170000
DTSTAMP:20260420T075857
CREATED:20200130T100619Z
LAST-MODIFIED:20200130T100619Z
UID:2877-1582120800-1582304400@peritiverona.com
SUMMARY:Convegni sul tema dell'uso energetico delle biomasse e riqualificazione energetica
DESCRIPTION:Si allega il programma con il link per Iscrizione obbligatoria convegno “Principali novità nel quadro normativo degli impianti a biomasse”  MERCOLEDI’ 19.02.202 \nProgetto Fuoco 2020 – 19.02.2020 \nSi allega il programma con il link per Iscrizione obbligatoria convegno “Legno rinnovabile per la costruzione di nuovi edifici\, la riqualificazione energetica dell’esistente e l’alimentazione di impianti tecnologici cleantech” VENERDI’ 21.02.202 \nProgetto Fuoco 2020 – 21.02.2020 \n\n        \n            Allegati\n        locandina 19 novembre 2020 (564 kB)
URL:https://peritiverona.com/evento/convegni-sul-tema-delluso-energetico-delle-biomasse-e-riqualificazione-energetica/
LOCATION:FIERA DI VERONA\, VIALE DEL LAVORO 8\, VERONA\, 37135\, Italia
CATEGORIES:Eventi formazione continua
END:VEVENT
BEGIN:VEVENT
DTSTART;VALUE=DATE:20200213
DTEND;VALUE=DATE:20200214
DTSTAMP:20260420T075857
CREATED:20200128T074944Z
LAST-MODIFIED:20200128T074944Z
UID:2677-1581552000-1581638399@peritiverona.com
SUMMARY:Soluzioni radianti per edifici NZEB orientate alla progettazione BIM
DESCRIPTION:Solo gli iscritti all’ordine di Verona possono iscriversi. \nSE SEI UN ISCRITTO\, clicca sul punsante accedi per prenotare l’evento. \nSE NON SEI UN ISCRITTO clicca qui per preiscriverti. \n\n \n\n        \n            Allegati\n        locandina 19 novembre 2020 (564 kB)
URL:https://peritiverona.com/evento/soluzioni-radianti-per-edifici-nzeb-orientate-alla-progettazione-bim/
LOCATION:Ordine dei Periti Industriali e Periti Industriali Laureati  della Provincia di Verona\, via Monte Comun 27\, San Giovanni Lupatoto\, 37057
CATEGORIES:Eventi formazione continua
ATTACH;FMTTYPE=image/jpeg:https://peritiverona.com/wp-content/uploads/2020/01/13-02-2020-Tiemme-1-pdf-image.jpg
END:VEVENT
BEGIN:VEVENT
DTSTART;VALUE=DATE:20200205
DTEND;VALUE=DATE:20200206
DTSTAMP:20260420T075857
CREATED:20200121T093749Z
LAST-MODIFIED:20200121T111408Z
UID:2757-1580860800-1580947199@peritiverona.com
SUMMARY:Commissione Meccanica
DESCRIPTION:Allegati\n        locandina 19 novembre 2020 (564 kB)
URL:https://peritiverona.com/evento/commissione-meccanica-4/
LOCATION:Ordine dei Periti Industriali e Periti Industriali Laureati  della Provincia di Verona\, via Monte Comun 27\, San Giovanni Lupatoto\, 37057
CATEGORIES:Commissioni,Eventi formazione continua
END:VEVENT
BEGIN:VEVENT
DTSTART;TZID=Europe/Rome:20200124T180000
DTEND;TZID=Europe/Rome:20200124T200000
DTSTAMP:20260420T075857
CREATED:20200116T104912Z
LAST-MODIFIED:20200116T104912Z
UID:2743-1579888800-1579896000@peritiverona.com
SUMMARY:Commissione Termotecnica
DESCRIPTION:Allegati\n        locandina 19 novembre 2020 (564 kB)
URL:https://peritiverona.com/evento/commissione-termotecnica/
LOCATION:Ordine dei Periti Industriali e Periti Industriali Laureati  della Provincia di Verona\, via Monte Comun 27\, San Giovanni Lupatoto\, 37057
CATEGORIES:Commissioni,Eventi formazione continua
END:VEVENT
BEGIN:VEVENT
DTSTART;TZID=Europe/Rome:20200124T083000
DTEND;TZID=Europe/Rome:20200124T180000
DTSTAMP:20260420T075857
CREATED:20200115T103341Z
LAST-MODIFIED:20200128T084542Z
UID:2702-1579854600-1579888800@peritiverona.com
SUMMARY:Corso sulla comunicazione
DESCRIPTION:Programma del Corso è disponibile di seguito: \nCorso sulla comunicazione \n\n        \n            Allegati\n        locandina 19 novembre 2020 (564 kB)
URL:https://peritiverona.com/evento/corso-sulla-comunicazione/
LOCATION:Esev\, Via Zeviani 8\, Verona\, Italia\, 37131
CATEGORIES:Eventi formazione continua
ATTACH;FMTTYPE=image/jpeg:https://peritiverona.com/wp-content/uploads/2020/01/Corso-sulla-comunicazione-pdf-image.jpg
END:VEVENT
BEGIN:VEVENT
DTSTART;TZID=Europe/Rome:20200121T190000
DTEND;TZID=Europe/Rome:20200121T210000
DTSTAMP:20260420T075857
CREATED:20200110T104202Z
LAST-MODIFIED:20200110T104219Z
UID:2664-1579633200-1579640400@peritiverona.com
SUMMARY:Commissione Elettrotecnica
DESCRIPTION:Allegati\n        locandina 19 novembre 2020 (564 kB)
URL:https://peritiverona.com/evento/commissione-elettrotecnica/
LOCATION:Ordine dei Periti Industriali e Periti Industriali Laureati  della Provincia di Verona\, via Monte Comun 27\, San Giovanni Lupatoto\, 37057
CATEGORIES:Commissioni,Eventi formazione continua
END:VEVENT
BEGIN:VEVENT
DTSTART;TZID=Europe/Rome:20200113T143000
DTEND;TZID=Europe/Rome:20200113T183000
DTSTAMP:20260420T075857
CREATED:20191220T072920Z
LAST-MODIFIED:20191220T074007Z
UID:2624-1578925800-1578940200@peritiverona.com
SUMMARY:Incontro su Prevenzione incendi per le attività produttive e Suap telematico
DESCRIPTION:Per partecipare al seminario è necessario iscriversi on line tramite collegamento al sito: http://www.vr.camcom.it/ \nalla voce  “Servizi on line/prenotazione eventi/incontro SUAP per i professionisti 13 gennaio 2020“. \n\n        \n            Allegati\n        locandina 19 novembre 2020 (564 kB)
URL:https://peritiverona.com/evento/incontro-su-prevenzione-incendi-per-le-attivita-produttive-e-suap-telematico/
LOCATION:Camera di Commercio Verona\, Corso Porta Nuova\, 96\, Verona\, Italia\, 37122
CATEGORIES:Eventi formazione continua
END:VEVENT
END:VCALENDAR