BEGIN:VCALENDAR
VERSION:2.0
PRODID:-//Ordine dei Periti Industriali e Periti Industriali Laureati  della Provincia di Verona - ECPv6.6.2//NONSGML v1.0//EN
CALSCALE:GREGORIAN
METHOD:PUBLISH
X-WR-CALNAME:Ordine dei Periti Industriali e Periti Industriali Laureati  della Provincia di Verona
X-ORIGINAL-URL:https://peritiverona.com
X-WR-CALDESC:Eventi per Ordine dei Periti Industriali e Periti Industriali Laureati  della Provincia di Verona
REFRESH-INTERVAL;VALUE=DURATION:PT1H
X-Robots-Tag:noindex
X-PUBLISHED-TTL:PT1H
BEGIN:VTIMEZONE
TZID:Europe/Rome
BEGIN:DAYLIGHT
TZOFFSETFROM:+0100
TZOFFSETTO:+0200
TZNAME:CEST
DTSTART:20200329T010000
END:DAYLIGHT
BEGIN:STANDARD
TZOFFSETFROM:+0200
TZOFFSETTO:+0100
TZNAME:CET
DTSTART:20201025T010000
END:STANDARD
BEGIN:DAYLIGHT
TZOFFSETFROM:+0100
TZOFFSETTO:+0200
TZNAME:CEST
DTSTART:20210328T010000
END:DAYLIGHT
BEGIN:STANDARD
TZOFFSETFROM:+0200
TZOFFSETTO:+0100
TZNAME:CET
DTSTART:20211031T010000
END:STANDARD
BEGIN:DAYLIGHT
TZOFFSETFROM:+0100
TZOFFSETTO:+0200
TZNAME:CEST
DTSTART:20220327T010000
END:DAYLIGHT
BEGIN:STANDARD
TZOFFSETFROM:+0200
TZOFFSETTO:+0100
TZNAME:CET
DTSTART:20221030T010000
END:STANDARD
END:VTIMEZONE
BEGIN:VEVENT
DTSTART;TZID=Europe/Rome:20220406T100000
DTEND;TZID=Europe/Rome:20220406T123000
DTSTAMP:20260420T060629
CREATED:20220322T091849Z
LAST-MODIFIED:20220322T091849Z
UID:6354-1649239200-1649248200@peritiverona.com
SUMMARY:Webinar Efficienza energetica negli interventi di riqualificazione
DESCRIPTION:ANIT 06.04.2022 \n\n        \n            Allegati\n        16.06.2022 Arredoluce (158 kB)
URL:https://peritiverona.com/evento/webinar-efficienza-energetica-negli-interventi-di-riqualificazione/
CATEGORIES:Eventi formazione continua
END:VEVENT
BEGIN:VEVENT
DTSTART;TZID=Europe/Rome:20220324T160000
DTEND;TZID=Europe/Rome:20220324T180000
DTSTAMP:20260420T060629
CREATED:20220315T105543Z
LAST-MODIFIED:20220315T105636Z
UID:6313-1648137600-1648144800@peritiverona.com
SUMMARY:Webinar Migliorare la sinergia in edilizia
DESCRIPTION:CQ – Webinar 24.03.2022 \n\n        \n            Allegati\n        16.06.2022 Arredoluce (158 kB)
URL:https://peritiverona.com/evento/webinar-migliorare-la-singergia-in-edilizia/
CATEGORIES:Eventi formazione continua
END:VEVENT
BEGIN:VEVENT
DTSTART;TZID=Europe/Rome:20220321T113000
DTEND;TZID=Europe/Rome:20220321T123000
DTSTAMP:20260420T060629
CREATED:20220303T115048Z
LAST-MODIFIED:20220303T115048Z
UID:6293-1647862200-1647865800@peritiverona.com
SUMMARY:Convocazione dell'Assemblea a distanza per l'approvazione del Rendiconto 2021
DESCRIPTION:E’ indetta l’assemblea degli iscritti\, a distanza\, per l’approvazione del Rendiconto 2021 in seconda convocazione \nLUNEDI’ 21 MARZO 2022 alle ore 11\,30 in Video Conferenza. \nConvocazione \n\n        \n            Allegati\n        16.06.2022 Arredoluce (158 kB)
URL:https://peritiverona.com/evento/convocazione-dellassemblea-a-distanza-per-lapprovazione-del-rendiconto-2021/
ORGANIZER;CN="Ordine dei Periti Industriali e Periti Industriali Laureati della Provincia di Verona":MAILTO:segreteria@peritiverona.it
END:VEVENT
BEGIN:VEVENT
DTSTART;TZID=Europe/Rome:20220128T143000
DTEND;TZID=Europe/Rome:20220128T180000
DTSTAMP:20260420T060629
CREATED:20220119T074031Z
LAST-MODIFIED:20220119T074043Z
UID:6164-1643380200-1643392800@peritiverona.com
SUMMARY:Webinar Superbonus 110% nella Regione Veneto
DESCRIPTION:28.01.22 Geo Network Superbonus \n28.01.22 Istruzioni Iscrizione Geo Network \n\n        \n            Allegati\n        16.06.2022 Arredoluce (158 kB)
URL:https://peritiverona.com/evento/webinar-superbonus-110-nella-regione-veneto/
CATEGORIES:Eventi formazione continua
END:VEVENT
BEGIN:VEVENT
DTSTART;TZID=Europe/Rome:20211215T150000
DTEND;TZID=Europe/Rome:20211215T190000
DTSTAMP:20260420T060629
CREATED:20211209T111359Z
LAST-MODIFIED:20211209T111359Z
UID:6047-1639580400-1639594800@peritiverona.com
SUMMARY:Corso online prevenzione incendi
DESCRIPTION:15.12.2021 corso agg prevenzione incendi – TORINO \n\n        \n            Allegati\n        16.06.2022 Arredoluce (158 kB)
URL:https://peritiverona.com/evento/corso-online-prevenzione-incendi/
END:VEVENT
BEGIN:VEVENT
DTSTART;TZID=Europe/Rome:20211214T093000
DTEND;TZID=Europe/Rome:20211214T123000
DTSTAMP:20260420T060629
CREATED:20211125T105744Z
LAST-MODIFIED:20211125T105744Z
UID:5983-1639474200-1639485000@peritiverona.com
SUMMARY:Webinar Contratti pubblici: il Decreto semplificazioni-bis e gli appalti del PNRR
DESCRIPTION:ANCE Appalti 14.12.2021 \n\n        \n            Allegati\n        16.06.2022 Arredoluce (158 kB)
URL:https://peritiverona.com/evento/webinar-contratti-pubblici-il-decreto-semplificazioni-bis-e-gli-appalti-del-pnrr/
CATEGORIES:Eventi formazione continua
END:VEVENT
BEGIN:VEVENT
DTSTART;TZID=Europe/Rome:20211209T110000
DTEND;TZID=Europe/Rome:20211209T123000
DTSTAMP:20260420T060629
CREATED:20211123T103141Z
LAST-MODIFIED:20211123T103141Z
UID:5953-1639047600-1639053000@peritiverona.com
SUMMARY:Convocazione dell'Assemblea a distanza per l'approvazione del Rendiconto 2020 e Bilancio di Previsione 2022
DESCRIPTION:E’ indetta l’assemblea degli iscritti\, a distanza\, per l’approvazione del Rendiconto 2020 e Bilancio di Previsione 2022 in seconda convocazione \nGIOVEDI’ 09 DICEMBRE 2021 alle ore 11\,00 in Video Conferenza. \nConvocazione \n\n        \n            Allegati\n        16.06.2022 Arredoluce (158 kB)
URL:https://peritiverona.com/evento/convocazione-dellassemblea-a-distanza-per-lapprovazione-del-rendiconto-2020-e-bilancio-di-previsione-2022/
ORGANIZER;CN="Ordine dei Periti Industriali e Periti Industriali Laureati della Provincia di Verona":MAILTO:segreteria@peritiverona.it
END:VEVENT
BEGIN:VEVENT
DTSTART;TZID=Europe/Rome:20211129T143000
DTEND;TZID=Europe/Rome:20211129T163000
DTSTAMP:20260420T060629
CREATED:20211117T084534Z
LAST-MODIFIED:20211117T084534Z
UID:5879-1638196200-1638203400@peritiverona.com
SUMMARY:Webinar Qualità e benessere negli ambienti domestici soluzioni VMC
DESCRIPTION:29.11.2021  \n\n        \n            Allegati\n        16.06.2022 Arredoluce (158 kB)
URL:https://peritiverona.com/evento/webinar-qualita-e-benessere-negli-ambienti-domestici-soluzioni-vmc/
CATEGORIES:Eventi formazione continua
END:VEVENT
BEGIN:VEVENT
DTSTART;TZID=Europe/Rome:20211119T160000
DTEND;TZID=Europe/Rome:20211119T190000
DTSTAMP:20260420T060629
CREATED:20211111T094358Z
LAST-MODIFIED:20211111T094358Z
UID:5837-1637337600-1637348400@peritiverona.com
SUMMARY:Incontro tecnico sui Gas refrigeranti
DESCRIPTION:19.11.2021 \n\n        \n            Allegati\n        16.06.2022 Arredoluce (158 kB)
URL:https://peritiverona.com/evento/incontro-tecnico-sui-gas-refrigeranti/
CATEGORIES:Eventi formazione continua
END:VEVENT
BEGIN:VEVENT
DTSTART;TZID=Europe/Rome:20211109T143000
DTEND;TZID=Europe/Rome:20211109T183000
DTSTAMP:20260420T060629
CREATED:20211014T085827Z
LAST-MODIFIED:20211014T085852Z
UID:5760-1636468200-1636482600@peritiverona.com
SUMMARY:SOLUZIONI TECNICHE DI PROTEZIONE ANTINCENDIO IN ACCORDO ALLE NORME VIGENTI
DESCRIPTION:https://peritiverona.com/wp-content/uploads/2021/10/20211109_VR.pdf \n\n        \n            Allegati\n        16.06.2022 Arredoluce (158 kB)
URL:https://peritiverona.com/evento/soluzioni-tecniche-di-protezione-antincendio-in-accordo-alle-norme-vigenti/
LOCATION:Istituto Salesiano San Zeno\, Via Don Minzoni 50\, Verona\, 37138
CATEGORIES:Eventi formazione continua
ATTACH;FMTTYPE=image/jpeg:https://peritiverona.com/wp-content/uploads/2021/10/20211109_VR-pdf-image.jpg
END:VEVENT
BEGIN:VEVENT
DTSTART;TZID=Europe/Rome:20211029T093000
DTEND;TZID=Europe/Rome:20211029T123000
DTSTAMP:20260420T060629
CREATED:20211011T093128Z
LAST-MODIFIED:20211011T093128Z
UID:5739-1635499800-1635510600@peritiverona.com
SUMMARY:Convegno Diagnosi non invasive sugli edifici esistenti
DESCRIPTION:ANCE 29.10.2021 \n\n        \n            Allegati\n        16.06.2022 Arredoluce (158 kB)
URL:https://peritiverona.com/evento/convegno-diagnosi-non-invasive-sugli-edifici-esistenti/
CATEGORIES:Eventi formazione continua
END:VEVENT
BEGIN:VEVENT
DTSTART;TZID=Europe/Rome:20211028T150000
DTEND;TZID=Europe/Rome:20211028T180000
DTSTAMP:20260420T060629
CREATED:20211019T142613Z
LAST-MODIFIED:20211019T142613Z
UID:5773-1635433200-1635444000@peritiverona.com
SUMMARY:EPPI Welfare 2021
DESCRIPTION:programma 28.10.2021 veneto \n\n        \n            Allegati\n        16.06.2022 Arredoluce (158 kB)
URL:https://peritiverona.com/evento/eppi-welfare-2021/
CATEGORIES:Eventi formazione continua
END:VEVENT
BEGIN:VEVENT
DTSTART;TZID=Europe/Rome:20211015T140000
DTEND;TZID=Europe/Rome:20211015T180000
DTSTAMP:20260420T060629
CREATED:20210929T081736Z
LAST-MODIFIED:20210929T081736Z
UID:5679-1634306400-1634320800@peritiverona.com
SUMMARY:Fiera del condominio: Innovazione\, architettura\, green - l'Italia che cambia\, progetta e costruisce
DESCRIPTION:Fiera evento 15.10.2021 \n\n        \n            Allegati\n        16.06.2022 Arredoluce (158 kB)
URL:https://peritiverona.com/evento/fiera-del-condominio-innovazione-architettura-green-litalia-che-cambia-progetta-e-costruisce/
CATEGORIES:Eventi formazione continua
END:VEVENT
BEGIN:VEVENT
DTSTART;TZID=Europe/Rome:20211013T143000
DTEND;TZID=Europe/Rome:20211013T183000
DTSTAMP:20260420T060629
CREATED:20210929T081518Z
LAST-MODIFIED:20210929T081518Z
UID:5675-1634135400-1634149800@peritiverona.com
SUMMARY:Fiera del condominio: superbonus un anno dopo
DESCRIPTION:FIERA DEL Condominio 13.10.2021 \n\n        \n            Allegati\n        16.06.2022 Arredoluce (158 kB)
URL:https://peritiverona.com/evento/fiera-del-condominio-superbonus-un-anno-dopo/
CATEGORIES:Eventi formazione continua
END:VEVENT
BEGIN:VEVENT
DTSTART;TZID=Europe/Rome:20211008T143000
DTEND;TZID=Europe/Rome:20211008T163000
DTSTAMP:20260420T060629
CREATED:20210929T103959Z
LAST-MODIFIED:20210929T103959Z
UID:5695-1633703400-1633710600@peritiverona.com
SUMMARY:Webinar su Sistemi di trattamento delle acque reflue
DESCRIPTION:08.10.2021 Valsir \n\n        \n            Allegati\n        16.06.2022 Arredoluce (158 kB)
URL:https://peritiverona.com/evento/webinar-su-sistemi-di-trattamento-delle-acque-reflue/
CATEGORIES:Eventi formazione continua
END:VEVENT
BEGIN:VEVENT
DTSTART;TZID=Europe/Rome:20210721T100000
DTEND;TZID=Europe/Rome:20210721T120000
DTSTAMP:20260420T060629
CREATED:20210714T070748Z
LAST-MODIFIED:20210714T070748Z
UID:5474-1626861600-1626868800@peritiverona.com
SUMMARY:Webinar Lo sportello telematico dell'Edilizia del Comune di Brenzone sul Garda
DESCRIPTION:21.07.2021 Sportello telematico dell’Edilizia \n\n        \n            Allegati\n        16.06.2022 Arredoluce (158 kB)
URL:https://peritiverona.com/evento/webinar-lo-sportello-telematico-delledilizia-del-comune-di-brenzone-sul-garda/
CATEGORIES:Eventi formazione continua
END:VEVENT
BEGIN:VEVENT
DTSTART;TZID=Europe/Rome:20210709T143000
DTEND;TZID=Europe/Rome:20210709T163000
DTSTAMP:20260420T060629
CREATED:20210705T084012Z
LAST-MODIFIED:20210707T071427Z
UID:5400-1625841000-1625848200@peritiverona.com
SUMMARY:Webinar su Gli impianti di distribuzione acqua sanitaria con tubazioni multistrato
DESCRIPTION:09.07.2021 VALSIR impianti di distribuzione acqua sanitaria \n\n        \n            Allegati\n        16.06.2022 Arredoluce (158 kB)
URL:https://peritiverona.com/evento/webinar-su-gli-impianti-di-distribuzione-acqua-sanitaria-con-tubazioni-multistrato/
CATEGORIES:Eventi formazione continua
END:VEVENT
BEGIN:VEVENT
DTSTART;TZID=Europe/Rome:20210629T170000
DTEND;TZID=Europe/Rome:20210629T190000
DTSTAMP:20260420T060629
CREATED:20210616T101519Z
LAST-MODIFIED:20210616T101634Z
UID:5183-1624986000-1624993200@peritiverona.com
SUMMARY:WEBINAR CORSO FORMATIVO DEONTOLOGICO
DESCRIPTION:Solo gli iscritti all’ordine di Verona possono iscriversi. \nSE SEI UN ISCRITTO\, clicca sul punsante accedi per prenotare l’evento. \nSE NON SEI UN ISCRITTO clicca qui per preiscriverti. \n\n  \n\n        \n            Allegati\n        16.06.2022 Arredoluce (158 kB)
URL:https://peritiverona.com/evento/webinar-corso-formativo-deontologico/
CATEGORIES:Eventi formazione continua
ORGANIZER;CN="Ordine dei Periti Industriali e Periti Industriali Laureati della Provincia di Verona":MAILTO:segreteria@peritiverona.it
END:VEVENT
BEGIN:VEVENT
DTSTART;TZID=Europe/Rome:20210629T143000
DTEND;TZID=Europe/Rome:20210629T170000
DTSTAMP:20260420T060629
CREATED:20210614T071457Z
LAST-MODIFIED:20210614T071626Z
UID:5171-1624977000-1624986000@peritiverona.com
SUMMARY:Webinar Detrazioni per l'efficientamento energetico: regole e buone prassi
DESCRIPTION:ANIT 29.06.2021 \n\n        \n            Allegati\n        16.06.2022 Arredoluce (158 kB)
URL:https://peritiverona.com/evento/webinar-detrazioni-per-lefficientamento-energetico-regole-e-buone-prassi/
CATEGORIES:Eventi formazione continua
END:VEVENT
BEGIN:VEVENT
DTSTART;TZID=Europe/Rome:20210629T140000
DTEND;TZID=Europe/Rome:20210629T180000
DTSTAMP:20260420T060629
CREATED:20210611T070623Z
LAST-MODIFIED:20210611T070623Z
UID:5150-1624975200-1624989600@peritiverona.com
SUMMARY:Webinar Appunti di comunicazione: i principi del posizionamento
DESCRIPTION:ANCE Appunti di comunicazione 29-30.06.2021 \n\n        \n            Allegati\n        16.06.2022 Arredoluce (158 kB)
URL:https://peritiverona.com/evento/webinar-appunti-di-comunicazione-i-principi-del-posizionamento/
CATEGORIES:Eventi formazione continua
END:VEVENT
BEGIN:VEVENT
DTSTART;TZID=Europe/Rome:20210618T143000
DTEND;TZID=Europe/Rome:20210618T163000
DTSTAMP:20260420T060629
CREATED:20210601T075306Z
LAST-MODIFIED:20210601T075325Z
UID:5128-1624026600-1624033800@peritiverona.com
SUMMARY:Impianti per il drenaggio delle acque meteoriche: sistemi convenzionali e sifonici
DESCRIPTION:18.06.2021 Valsir impianti di drenaggio acque meteoriche \n\n        \n            Allegati\n        16.06.2022 Arredoluce (158 kB)
URL:https://peritiverona.com/evento/impianti-per-il-drenaggio-delle-acque-meteoriche-sistemi-convenzionali-e-sifonici/
CATEGORIES:Eventi formazione continua
END:VEVENT
BEGIN:VEVENT
DTSTART;TZID=Europe/Rome:20210507T143000
DTEND;TZID=Europe/Rome:20210507T163000
DTSTAMP:20260420T060629
CREATED:20210428T092121Z
LAST-MODIFIED:20210428T092227Z
UID:5057-1620397800-1620405000@peritiverona.com
SUMMARY:Progettazione evoluta degli impianti di scarico negli edifici
DESCRIPTION:VALSIR 07.05.2021 impianti di scarico \n\n        \n            Allegati\n        16.06.2022 Arredoluce (158 kB)
URL:https://peritiverona.com/evento/progettazione-evoluta-degli-impianti-di-scarico-negli-edifici/
CATEGORIES:Eventi formazione continua
END:VEVENT
BEGIN:VEVENT
DTSTART;TZID=Europe/Rome:20210506T140000
DTEND;TZID=Europe/Rome:20210506T170000
DTSTAMP:20260420T060629
CREATED:20210430T071543Z
LAST-MODIFIED:20210430T071719Z
UID:5081-1620309600-1620320400@peritiverona.com
SUMMARY:Valutazione economica dell'illuminazione a LED
DESCRIPTION:06.05.2021 Palazzoli \n\n        \n            Allegati\n        16.06.2022 Arredoluce (158 kB)
URL:https://peritiverona.com/evento/valutazione-economica-dellilluminazione-a-led/
CATEGORIES:Eventi formazione continua
END:VEVENT
BEGIN:VEVENT
DTSTART;TZID=Europe/Rome:20210420T143000
DTEND;TZID=Europe/Rome:20210420T180000
DTSTAMP:20260420T060629
CREATED:20210407T093800Z
LAST-MODIFIED:20210407T093907Z
UID:4999-1618929000-1618941600@peritiverona.com
SUMMARY:Normative e procedure per il trattamento acqua ad uso civile ed industriale
DESCRIPTION:Si allega la locandina con il programma ed il link per l’iscrizione \nENKI 20 aprile 2021 \n\n        \n            Allegati\n        16.06.2022 Arredoluce (158 kB)
URL:https://peritiverona.com/evento/normative-e-procedure-per-il-trattamento-acqua-ad-uso-civile-ed-industriale-3/
CATEGORIES:Eventi formazione continua
ATTACH;FMTTYPE=application/pdf:https://peritiverona.com/wp-content/uploads/2021/04/ENKI-20-aprile-2021-2.pdf
END:VEVENT
BEGIN:VEVENT
DTSTART;TZID=Europe/Rome:20210331T150000
DTEND;TZID=Europe/Rome:20210331T180000
DTSTAMP:20260420T060629
CREATED:20210323T083307Z
LAST-MODIFIED:20210323T083318Z
UID:4899-1617202800-1617213600@peritiverona.com
SUMMARY:Webinar Progettazione degli impianti VRF
DESCRIPTION:Webinar 31 marzo 2021 VRF \n\n        \n            Allegati\n        16.06.2022 Arredoluce (158 kB)
URL:https://peritiverona.com/evento/webinar-progettazione-degli-impianti-vrf/
CATEGORIES:Eventi formazione continua
END:VEVENT
BEGIN:VEVENT
DTSTART;TZID=Europe/Rome:20210325T160000
DTEND;TZID=Europe/Rome:20210325T180000
DTSTAMP:20260420T060629
CREATED:20210312T092405Z
LAST-MODIFIED:20210312T092522Z
UID:4856-1616688000-1616695200@peritiverona.com
SUMMARY:Webinar Le risposte al futuro delle costruzioni: focus sulla salubrità
DESCRIPTION:ANCE 25.03.2021 \n\n        \n            Allegati\n        16.06.2022 Arredoluce (158 kB)
URL:https://peritiverona.com/evento/webinar-le-risposte-al-futuro-delle-costruzioni-focus-sulla-salubrita/
CATEGORIES:Eventi formazione continua
ATTACH;FMTTYPE=application/pdf:https://peritiverona.com/wp-content/uploads/2021/03/ANCE-25.03.2021-2.pdf
END:VEVENT
BEGIN:VEVENT
DTSTART;TZID=Europe/Rome:20210309T150000
DTEND;TZID=Europe/Rome:20210309T170000
DTSTAMP:20260420T060629
CREATED:20210223T105201Z
LAST-MODIFIED:20210223T105201Z
UID:4799-1615302000-1615309200@peritiverona.com
SUMMARY:Efficienza energetica\, diagnostica e riqualificazione dall'esterno
DESCRIPTION:Scarica il programma da QUI \n\n        \n            Allegati\n        16.06.2022 Arredoluce (158 kB)
URL:https://peritiverona.com/evento/efficienza-energetica-diagnostica-e-riqualificazione-dallesterno/
CATEGORIES:Eventi formazione continua
ATTACH;FMTTYPE=application/pdf:https://peritiverona.com/wp-content/uploads/2021/02/ANIT-Efficienza-energetica-diagnostica-09.03.2021-2.pdf
END:VEVENT
BEGIN:VEVENT
DTSTART;TZID=Europe/Rome:20210212T090000
DTEND;TZID=Europe/Rome:20210212T130000
DTSTAMP:20260420T060629
CREATED:20210126T074555Z
LAST-MODIFIED:20210126T074555Z
UID:4630-1613120400-1613134800@peritiverona.com
SUMMARY:Webinar Sistemi fissi automatici di rivelazione e segnalazione allarme d'incendio UNI 9795
DESCRIPTION:Allegati\n        16.06.2022 Arredoluce (158 kB)
URL:https://peritiverona.com/evento/webinar-sistemi-fissi-automatici-di-rivelazione-e-segnalazione-allarme-dincendio-uni-9795/
CATEGORIES:Eventi formazione continua
END:VEVENT
BEGIN:VEVENT
DTSTART;TZID=Europe/Rome:20210211T143000
DTEND;TZID=Europe/Rome:20210211T173000
DTSTAMP:20260420T060629
CREATED:20210203T065358Z
LAST-MODIFIED:20210203T065358Z
UID:4684-1613053800-1613064600@peritiverona.com
SUMMARY:Webinar Power Quality cos'è\, come si migliora e come si misura
DESCRIPTION:Il programma è accessibile da qui programma_PowerQuality_Verona \n  \n\n        \n            Allegati\n        16.06.2022 Arredoluce (158 kB)
URL:https://peritiverona.com/evento/webinar-power-quality-cose-come-si-migliora-e-come-si-misura/
CATEGORIES:Eventi formazione continua
ATTACH;FMTTYPE=image/jpeg:https://peritiverona.com/wp-content/uploads/2021/02/programma_PowerQuality_Verona-pdf-image.jpg
END:VEVENT
BEGIN:VEVENT
DTSTART;TZID=Europe/Rome:20201215T140000
DTEND;TZID=Europe/Rome:20201215T153000
DTSTAMP:20260420T060629
CREATED:20201211T080925Z
LAST-MODIFIED:20201211T081028Z
UID:4490-1608040800-1608046200@peritiverona.com
SUMMARY:Webinar: Il 110% - incontro tra professionisti
DESCRIPTION:  \n \n\n        \n            Allegati\n        16.06.2022 Arredoluce (158 kB)
URL:https://peritiverona.com/evento/webinar-il-110-incontro-tra-professionisti/
CATEGORIES:Eventi formazione continua
END:VEVENT
END:VCALENDAR