BEGIN:VCALENDAR
VERSION:2.0
PRODID:-//Ordine dei Periti Industriali e Periti Industriali Laureati  della Provincia di Verona - ECPv6.6.2//NONSGML v1.0//EN
CALSCALE:GREGORIAN
METHOD:PUBLISH
X-WR-CALNAME:Ordine dei Periti Industriali e Periti Industriali Laureati  della Provincia di Verona
X-ORIGINAL-URL:https://peritiverona.com
X-WR-CALDESC:Eventi per Ordine dei Periti Industriali e Periti Industriali Laureati  della Provincia di Verona
REFRESH-INTERVAL;VALUE=DURATION:PT1H
X-Robots-Tag:noindex
X-PUBLISHED-TTL:PT1H
BEGIN:VTIMEZONE
TZID:Europe/Rome
BEGIN:DAYLIGHT
TZOFFSETFROM:+0100
TZOFFSETTO:+0200
TZNAME:CEST
DTSTART:20250330T010000
END:DAYLIGHT
BEGIN:STANDARD
TZOFFSETFROM:+0200
TZOFFSETTO:+0100
TZNAME:CET
DTSTART:20251026T010000
END:STANDARD
END:VTIMEZONE
BEGIN:VEVENT
DTSTART;TZID=Europe/Rome:20251125T170000
DTEND;TZID=Europe/Rome:20251125T190000
DTSTAMP:20260421T125605
CREATED:20251111T113357Z
LAST-MODIFIED:20251111T113357Z
UID:10318-1764090000-1764097200@peritiverona.com
SUMMARY:Corso formativo deontologico
DESCRIPTION:Allegati\n        Convocazione Assemblea Rendiconto 2025 e Bilancio di previsione 2026 prot (235 kB)
URL:https://peritiverona.com/evento/corso-formativo-deontologico-4/
LOCATION:Ordine dei Periti Industriali e Periti Industriali Laureati  della Provincia di Verona\, via Monte Comun 27\, San Giovanni Lupatoto\, 37057
CATEGORIES:Eventi formazione continua
END:VEVENT
END:VCALENDAR