BEGIN:VCALENDAR
VERSION:2.0
PRODID:-//Ordine dei Periti Industriali e Periti Industriali Laureati  della Provincia di Verona - ECPv6.6.2//NONSGML v1.0//EN
CALSCALE:GREGORIAN
METHOD:PUBLISH
X-ORIGINAL-URL:https://peritiverona.com
X-WR-CALDESC:Eventi per Ordine dei Periti Industriali e Periti Industriali Laureati  della Provincia di Verona
REFRESH-INTERVAL;VALUE=DURATION:PT1H
X-Robots-Tag:noindex
X-PUBLISHED-TTL:PT1H
BEGIN:VTIMEZONE
TZID:Europe/Rome
BEGIN:DAYLIGHT
TZOFFSETFROM:+0100
TZOFFSETTO:+0200
TZNAME:CEST
DTSTART:20250330T010000
END:DAYLIGHT
BEGIN:STANDARD
TZOFFSETFROM:+0200
TZOFFSETTO:+0100
TZNAME:CET
DTSTART:20251026T010000
END:STANDARD
END:VTIMEZONE
BEGIN:VEVENT
DTSTART;TZID=Europe/Rome:20251119T083000
DTEND;TZID=Europe/Rome:20251119T123000
DTSTAMP:20260421T125658
CREATED:20251017T091553Z
LAST-MODIFIED:20251017T091553Z
UID:10160-1763541000-1763555400@peritiverona.com
SUMMARY:Corso di aggiornamento di prevenzione incendi
DESCRIPTION:Edifici per civile abitazione (DM 16.05.1987 n°246 e D.M. 25.01.2019) e nuove RTV introdotte dal DM 19.05.2022 (V14 del codice) e dal DM 30.03.2022 (V13 del codice) concernente le chiusure d’ambito degli edifici \n\n        \n            Allegati\n        Convocazione Assemblea Rendiconto 2025 e Bilancio di previsione 2026 prot (235 kB)
URL:https://peritiverona.com/evento/corso-di-aggiornamento-di-prevenzione-incendi-2/
LOCATION:Ordine dei Periti Industriali e Periti Industriali Laureati  della Provincia di Verona\, via Monte Comun 27\, San Giovanni Lupatoto\, 37057
CATEGORIES:Eventi formazione continua
END:VEVENT
END:VCALENDAR