BEGIN:VCALENDAR
VERSION:2.0
PRODID:-//Ordine dei Periti Industriali e Periti Industriali Laureati  della Provincia di Verona - ECPv6.6.2//NONSGML v1.0//EN
CALSCALE:GREGORIAN
METHOD:PUBLISH
X-ORIGINAL-URL:https://peritiverona.com
X-WR-CALDESC:Eventi per Ordine dei Periti Industriali e Periti Industriali Laureati  della Provincia di Verona
REFRESH-INTERVAL;VALUE=DURATION:PT1H
X-Robots-Tag:noindex
X-PUBLISHED-TTL:PT1H
BEGIN:VTIMEZONE
TZID:Europe/Rome
BEGIN:DAYLIGHT
TZOFFSETFROM:+0100
TZOFFSETTO:+0200
TZNAME:CEST
DTSTART:20250330T010000
END:DAYLIGHT
BEGIN:STANDARD
TZOFFSETFROM:+0200
TZOFFSETTO:+0100
TZNAME:CET
DTSTART:20251026T010000
END:STANDARD
END:VTIMEZONE
BEGIN:VEVENT
DTSTART;TZID=Europe/Rome:20250617T143000
DTEND;TZID=Europe/Rome:20250617T173000
DTSTAMP:20260421T194957
CREATED:20250516T093828Z
LAST-MODIFIED:20250516T093828Z
UID:9855-1750170600-1750181400@peritiverona.com
SUMMARY:Seminario La richiesta di risarcimento! Cosa prevede la polizza di responsabilità civile professionale
DESCRIPTION:17.06.2025 Howden \n\n        \n            Allegati\n        Convocazione Assemblea Rendiconto 2025 e Bilancio di previsione 2026 prot (235 kB)
URL:https://peritiverona.com/evento/seminario-la-richiesta-di-risarcimento-cosa-prevede-la-polizza-di-responsabilita-civile-professionale/
LOCATION:Ordine dei Periti Industriali e Periti Industriali Laureati  della Provincia di Verona\, via Monte Comun 27\, San Giovanni Lupatoto\, 37057
CATEGORIES:Eventi formazione continua
END:VEVENT
END:VCALENDAR