BEGIN:VCALENDAR
VERSION:2.0
PRODID:-//Ordine dei Periti Industriali e Periti Industriali Laureati  della Provincia di Verona - ECPv6.6.2//NONSGML v1.0//EN
CALSCALE:GREGORIAN
METHOD:PUBLISH
X-ORIGINAL-URL:https://peritiverona.com
X-WR-CALDESC:Eventi per Ordine dei Periti Industriali e Periti Industriali Laureati  della Provincia di Verona
REFRESH-INTERVAL;VALUE=DURATION:PT1H
X-Robots-Tag:noindex
X-PUBLISHED-TTL:PT1H
BEGIN:VTIMEZONE
TZID:Europe/Rome
BEGIN:DAYLIGHT
TZOFFSETFROM:+0100
TZOFFSETTO:+0200
TZNAME:CEST
DTSTART:20250330T010000
END:DAYLIGHT
BEGIN:STANDARD
TZOFFSETFROM:+0200
TZOFFSETTO:+0100
TZNAME:CET
DTSTART:20251026T010000
END:STANDARD
END:VTIMEZONE
BEGIN:VEVENT
DTSTART;TZID=Europe/Rome:20250509T150000
DTEND;TZID=Europe/Rome:20250509T190000
DTSTAMP:20260421T214911
CREATED:20250430T065950Z
LAST-MODIFIED:20250430T065950Z
UID:9721-1746802800-1746817200@peritiverona.com
SUMMARY:Incontro tecnico Luce per l'arte\, arte della luce
DESCRIPTION:09.05.2025 luce \n\n        \n            Allegati\n        Convocazione Assemblea Rendiconto 2025 e Bilancio di previsione 2026 prot (235 kB)
URL:https://peritiverona.com/evento/incontro-tecnico-luce-per-larte-arte-della-luce/
LOCATION:VILLA NICHESOLA CONFORTI\, VIA DOMEGLIARA 5\, SANT'AMBROGIO DI VALPOLICELLA\, 37015\, Italia
CATEGORIES:Eventi formazione continua
END:VEVENT
END:VCALENDAR