BEGIN:VCALENDAR
VERSION:2.0
PRODID:-//Ordine dei Periti Industriali e Periti Industriali Laureati  della Provincia di Verona - ECPv6.6.2//NONSGML v1.0//EN
CALSCALE:GREGORIAN
METHOD:PUBLISH
X-WR-CALNAME:Ordine dei Periti Industriali e Periti Industriali Laureati  della Provincia di Verona
X-ORIGINAL-URL:https://peritiverona.com
X-WR-CALDESC:Eventi per Ordine dei Periti Industriali e Periti Industriali Laureati  della Provincia di Verona
REFRESH-INTERVAL;VALUE=DURATION:PT1H
X-Robots-Tag:noindex
X-PUBLISHED-TTL:PT1H
BEGIN:VTIMEZONE
TZID:Europe/Rome
BEGIN:DAYLIGHT
TZOFFSETFROM:+0100
TZOFFSETTO:+0200
TZNAME:CEST
DTSTART:20240331T010000
END:DAYLIGHT
BEGIN:STANDARD
TZOFFSETFROM:+0200
TZOFFSETTO:+0100
TZNAME:CET
DTSTART:20241027T010000
END:STANDARD
END:VTIMEZONE
BEGIN:VEVENT
DTSTART;TZID=Europe/Rome:20240611T093000
DTEND;TZID=Europe/Rome:20240611T123000
DTSTAMP:20260422T193105
CREATED:20240527T061059Z
LAST-MODIFIED:20240527T061059Z
UID:8701-1718098200-1718109000@peritiverona.com
SUMMARY:Convegno Progettazione in pompa di calore
DESCRIPTION:11.06.2024 Convegno ARISTON ON TOUR \n\n        \n            Allegati\n        Convocazione Assemblea Rendiconto 2025 e Bilancio di previsione 2026 prot (235 kB)
URL:https://peritiverona.com/evento/convegno-progettazione-in-pompa-di-calore/
LOCATION:Villa de Winckels\, Via Sorio 30\, TREGNAGO\, 37039\, Italia
CATEGORIES:Eventi formazione continua
END:VEVENT
END:VCALENDAR